BEGIN:VCALENDAR
VERSION:2.0
PRODID:-//ChamberMaster//Event Calendar 2.0//EN
METHOD:PUBLISH
X-PUBLISHED-TTL:P3D
REFRESH-INTERVAL:P3D
CALSCALE:GREGORIAN
BEGIN:VEVENT
DTSTART:20190507T233000Z
DTEND:20190508T003000Z
X-MICROSOFT-CDO-ALLDAYEVENT:FALSE
SUMMARY:Teen Tuesday: Nilla Wafers
DESCRIPTION:Make snacks with Nilla Wafers as the main ingredient at the Ruth Culver Community Library Tuesday\, May 7 at 6:30 p.m.  This event is especially for grades 6-12. Contact Meagan at 643-8318 with questions.
X-ALT-DESC;FMTTYPE=text/html:Make snacks with Nilla Wafers as the main ingredient at the Ruth Culver Community Library Tuesday\, May 7 at 6:30 p.m.&nbsp\; This event is especially for grades 6-12. Contact Meagan at 643-8318 with questions.
LOCATION:Ruth Culver Community Library 540 Water Street\, Prairie du Sac
UID:e.1184.22245
SEQUENCE:3
DTSTAMP:20260423T172000Z
URL:http://members.saukprairie.com/events/details/teen-tuesday-nilla-wafers-22245
END:VEVENT

END:VCALENDAR
