BEGIN:VCALENDAR
VERSION:2.0
PRODID:-//ChamberMaster//Event Calendar 2.0//EN
METHOD:PUBLISH
X-PUBLISHED-TTL:P3D
REFRESH-INTERVAL:P3D
CALSCALE:GREGORIAN
BEGIN:VEVENT
DTSTART:20191008T233000Z
DTEND:20191009T003000Z
X-MICROSOFT-CDO-ALLDAYEVENT:FALSE
SUMMARY:Teen Tuesday: One Night Ultimate Werewolf
DESCRIPTION:Play One Night Ultimate Werewolf at the Ruth Culver Community Library Tuesday\, October 8 at 6:30 p.m.  In this fast-paced game everyone gets a hidden role each with a special ability. The goal: figure out who the werewolves are! This event is especially for grades 6-12. Contact Meagan at 643-8318 with questions.
X-ALT-DESC;FMTTYPE=text/html:Play One Night Ultimate Werewolf at the Ruth Culver Community Library Tuesday\, October 8 at 6:30 p.m.&nbsp\; In this fast-paced game everyone gets a hidden role&mdash\;each with a special ability. The goal: figure out who the werewolves are! This event is especially for grades 6-12. Contact Meagan at 643-8318 with questions.
LOCATION:Ruth Culver Community Library 540 Water Street\, Prairie du Sac
UID:e.1184.23145
SEQUENCE:3
DTSTAMP:20260423T113727Z
URL:http://members.saukprairie.com/events/details/teen-tuesday-one-night-ultimate-werewolf-23145
END:VEVENT

END:VCALENDAR
