BEGIN:VCALENDAR
VERSION:2.0
PRODID:-//ChamberMaster//Event Calendar 2.0//EN
METHOD:PUBLISH
X-PUBLISHED-TTL:P3D
REFRESH-INTERVAL:P3D
CALSCALE:GREGORIAN
BEGIN:VEVENT
DTSTART:20190625T233000Z
DTEND:20190626T003000Z
X-MICROSOFT-CDO-ALLDAYEVENT:FALSE
SUMMARY:Teen Tuesday Open Art Night: 8-bit Art
DESCRIPTION:We'll have a variety of art supplies for you to do your own thing at the Ruth Culver Community Library Tuesday\, June 25 at 6:30 p.m.  This month's special projects will focus on "8-bit art" (think perler beads and post-its). Teen Tuesdays are especially for grades 6-12. Contact Meagan at 643-8318 with questions.
X-ALT-DESC;FMTTYPE=text/html:We&#39\;ll have a variety of art supplies for you to do your own thing at the Ruth Culver Community Library Tuesday\, June 25 at 6:30 p.m.&nbsp\; This month&#39\;s special projects will focus on &quot\;8-bit art&quot\; (think perler beads and post-its). Teen Tuesdays are especially for grades 6-12. Contact Meagan at 643-8318 with questions.
LOCATION:Ruth Culver Community Library 540 Water Street\, Prairie du Sac
UID:e.1184.22343
SEQUENCE:3
DTSTAMP:20260423T171906Z
URL:http://members.saukprairie.com/events/details/teen-tuesday-open-art-night-8-bit-art-22343
END:VEVENT

END:VCALENDAR
