BEGIN:VCALENDAR
VERSION:2.0
PRODID:-//ChamberMaster//Event Calendar 2.0//EN
METHOD:PUBLISH
X-PUBLISHED-TTL:P3D
REFRESH-INTERVAL:P3D
CALSCALE:GREGORIAN
BEGIN:VEVENT
DTSTART:20230215T004500Z
DTEND:20230215T014500Z
X-MICROSOFT-CDO-ALLDAYEVENT:FALSE
SUMMARY:Teen Tuesday: Oreos
DESCRIPTION:Make a variety of treats using Oreos in different ways! This event is especially for grades 6-12. No registration required unless you want to receive an email reminder. Contact Meagan with allergy concerns.
X-ALT-DESC;FMTTYPE=text/html:<span style="font-family:roboto\,sans-serif\; font-size:16px">Make a variety of treats using Oreos in different ways! This event is especially for grades 6-12. No registration required unless you want to receive an email reminder. Contact Meagan with allergy concerns.</span>
LOCATION:Ruth Culver Community Library 540 Water Street\, Prairie du Sac
UID:e.1184.29894
SEQUENCE:3
DTSTAMP:20260420T180530Z
URL:http://members.saukprairie.com/events/details/teen-tuesday-oreos-29894
END:VEVENT

END:VCALENDAR
