BEGIN:VCALENDAR
VERSION:2.0
PRODID:-//ChamberMaster//Event Calendar 2.0//EN
METHOD:PUBLISH
X-PUBLISHED-TTL:P3D
REFRESH-INTERVAL:P3D
CALSCALE:GREGORIAN
BEGIN:VEVENT
DTSTART:20200414T233000Z
DTEND:20200415T003000Z
X-MICROSOFT-CDO-ALLDAYEVENT:FALSE
SUMMARY:Teen Tuesday: Paint Night
DESCRIPTION:Show your creative side at the Ruth Culver Community Library's Teen Paint Night Tuesday\, April 14 at 6:30pm. Paint and a variety of surfaces to paint on will be provided! This event is especially for grades 6-12. Contact Meagan at 643-8318 with questions.
X-ALT-DESC;FMTTYPE=text/html:Show your creative side at the Ruth Culver Community Library&#39\;s Teen Paint Night Tuesday\, April 14 at 6:30pm. Paint and a variety of surfaces to paint on will be provided! This event is especially for grades 6-12. Contact Meagan at 643-8318 with questions.
LOCATION:Ruth Culver Community Library 540 Water Street\, Prairie du Sac
UID:e.1184.24066
SEQUENCE:3
DTSTAMP:20260423T012128Z
URL:http://members.saukprairie.com/events/details/teen-tuesday-paint-night-24066
END:VEVENT

END:VCALENDAR
