BEGIN:VCALENDAR
VERSION:2.0
PRODID:-//ChamberMaster//Event Calendar 2.0//EN
METHOD:PUBLISH
X-PUBLISHED-TTL:P3D
REFRESH-INTERVAL:P3D
CALSCALE:GREGORIAN
BEGIN:VEVENT
DTSTART:20230301T004500Z
DTEND:20230301T014500Z
X-MICROSOFT-CDO-ALLDAYEVENT:FALSE
SUMMARY:Teen Tuesday: Pixel Art
DESCRIPTION:Create your own pixel art at the Ruth Culver Community Library! We'll have a variety of supplies including beads\, paper\, and digital options. This event is especially for grades 6-12. No registration required unless you want to receive an email reminder.
X-ALT-DESC;FMTTYPE=text/html:<span style="font-family:roboto\,sans-serif\; font-size:16px">Create your own pixel art at the Ruth Culver Community Library! We&#39\;ll have a variety of supplies including beads\, paper\, and digital options. This event is especially for grades 6-12. No registration required unless you want to receive an email reminder.&nbsp\;</span>
LOCATION:Ruth Culver Community Library 540 Water Street\, Prairie du Sac
UID:e.1184.29895
SEQUENCE:3
DTSTAMP:20260420T180626Z
URL:http://members.saukprairie.com/events/details/teen-tuesday-pixel-art-29895
END:VEVENT

END:VCALENDAR
