BEGIN:VCALENDAR
VERSION:2.0
PRODID:-//ChamberMaster//Event Calendar 2.0//EN
METHOD:PUBLISH
X-PUBLISHED-TTL:P3D
REFRESH-INTERVAL:P3D
CALSCALE:GREGORIAN
BEGIN:VEVENT
DTSTART:20200205T003000Z
DTEND:20200205T013000Z
X-MICROSOFT-CDO-ALLDAYEVENT:FALSE
SUMMARY:Teen Tuesday: Puppy Chow Taste Test
DESCRIPTION:Taste-test different types of Puppy Chow at the Ruth Culver Community Library Tuesday\, February 4 at 6:30 p.m.  You can even make your own! Please note\, peanut butter will be used. This event is especially for grades 6-12. Contact Meagan at 643-8318 with questions.
X-ALT-DESC;FMTTYPE=text/html:Taste-test different types of Puppy Chow at the Ruth Culver Community Library Tuesday\, February 4 at 6:30 p.m.&nbsp\; You can even make your own! Please note\, peanut butter will be used. This event is especially for grades 6-12. Contact Meagan at 643-8318 with questions.
LOCATION:Ruth Culver Community Library 540 Water Street\, Prairie du Sac
UID:e.1184.23912
SEQUENCE:3
DTSTAMP:20260423T041554Z
URL:http://members.saukprairie.com/events/details/teen-tuesday-puppy-chow-taste-test-23912
END:VEVENT

END:VCALENDAR
