BEGIN:VCALENDAR
VERSION:2.0
PRODID:-//ChamberMaster//Event Calendar 2.0//EN
METHOD:PUBLISH
X-PUBLISHED-TTL:P3D
REFRESH-INTERVAL:P3D
CALSCALE:GREGORIAN
BEGIN:VEVENT
DTSTART:20200108T003000Z
DTEND:20200108T013000Z
X-MICROSOFT-CDO-ALLDAYEVENT:FALSE
SUMMARY:Teen Tuesday: Root Beer Floats
DESCRIPTION:Make your own root beer floats at the Ruth Culver Community Library Tuesday\, January 7 at 6:30 p.m.  We'll provide all the supplies\, and may even include a Harry Potter version! This event is especially for grades 6-12. Contact Meagan at 643-8318 with questions.
X-ALT-DESC;FMTTYPE=text/html:Make your own root beer floats at the Ruth Culver Community Library Tuesday\, January 7 at 6:30 p.m.&nbsp\; We&#39\;ll provide all the supplies\, and may even include a Harry Potter version! This event is especially for grades 6-12. Contact Meagan at 643-8318 with questions.
LOCATION:Ruth Culver Community Library 540 Water Street\, Prairie du Sac
UID:e.1184.23910
SEQUENCE:3
DTSTAMP:20260423T053922Z
URL:http://members.saukprairie.com/events/details/teen-tuesday-root-beer-floats-23910
END:VEVENT

END:VCALENDAR
