BEGIN:VCALENDAR
VERSION:2.0
PRODID:-//ChamberMaster//Event Calendar 2.0//EN
METHOD:PUBLISH
X-PUBLISHED-TTL:P3D
REFRESH-INTERVAL:P3D
CALSCALE:GREGORIAN
BEGIN:VEVENT
DTSTART:20190618T233000Z
DTEND:20190619T003000Z
X-MICROSOFT-CDO-ALLDAYEVENT:FALSE
SUMMARY:Teen Tuesday: "Shelfie" Scavenger Hunt
DESCRIPTION:Work in teams to take "shelfies" at all the hidden markers in the Ruth Culver Community Library Tuesday\, June 18 at 6:30 p.m.  Teen Tuesdays are especially for grades 6-12. Contact Meagan at 643-8318 with questions.
X-ALT-DESC;FMTTYPE=text/html:Work in teams to take &quot\;shelfies&quot\; at all the hidden markers in the Ruth Culver Community Library Tuesday\, June 18 at 6:30 p.m.&nbsp\; Teen Tuesdays are especially for grades 6-12. Contact Meagan at 643-8318 with questions.
LOCATION:Ruth Culver Community Library 540 Water Street\, Prairie du Sac
UID:e.1184.22342
SEQUENCE:3
DTSTAMP:20260423T154657Z
URL:http://members.saukprairie.com/events/details/teen-tuesday-shelfie-scavenger-hunt-22342
END:VEVENT

END:VCALENDAR
