BEGIN:VCALENDAR
VERSION:2.0
PRODID:-//ChamberMaster//Event Calendar 2.0//EN
METHOD:PUBLISH
X-PUBLISHED-TTL:P3D
REFRESH-INTERVAL:P3D
CALSCALE:GREGORIAN
BEGIN:VEVENT
DTSTART:20190514T233000Z
DTEND:20190515T003000Z
X-MICROSOFT-CDO-ALLDAYEVENT:FALSE
SUMMARY:Teen Tuesday: Shrinky Dinks & Buttons
DESCRIPTION:We'll have all the supplies for you to make your own shrinky dinks and buttons at the Ruth Culver Community Library Tuesday\, May 14 at 6:30 p.m.  This event is especially for grades 6-12. Contact Meagan at 643-8318 with questions.
X-ALT-DESC;FMTTYPE=text/html:We&#39\;ll have all the supplies for you to make your own shrinky dinks and buttons at the Ruth Culver Community Library Tuesday\, May 14 at 6:30 p.m.&nbsp\; This event is especially for grades 6-12. Contact Meagan at 643-8318 with questions.
LOCATION:Ruth Culver Community Library 540 Water Street\, Prairie du Sac
UID:e.1184.22246
SEQUENCE:3
DTSTAMP:20260423T171550Z
URL:http://members.saukprairie.com/events/details/teen-tuesday-shrinky-dinks-buttons-22246
END:VEVENT

END:VCALENDAR
