BEGIN:VCALENDAR
VERSION:2.0
PRODID:-//ChamberMaster//Event Calendar 2.0//EN
METHOD:PUBLISH
X-PUBLISHED-TTL:P3D
REFRESH-INTERVAL:P3D
CALSCALE:GREGORIAN
BEGIN:VEVENT
DTSTART:20190910T233000Z
DTEND:20190911T003000Z
X-MICROSOFT-CDO-ALLDAYEVENT:FALSE
SUMMARY:Teen Tuesday: Soapmaking
DESCRIPTION:Make your own melt-and-pour soap at the Ruth Culver Community Library Tuesday\, September 10 at 6:30 p.m.  All supplies will be provided! Teen Tuesdays are especially for grades 6-12. Contact Meagan at 643-8318 with questions.
X-ALT-DESC;FMTTYPE=text/html:Make your own melt-and-pour soap at the Ruth Culver Community Library Tuesday\, September 10 at 6:30 p.m.&nbsp\; All supplies will be provided! Teen Tuesdays are especially for grades 6-12. Contact Meagan at 643-8318 with questions.
LOCATION:Ruth Culver Community Library 540 Water Street\, Prairie du Sac
UID:e.1184.23136
SEQUENCE:3
DTSTAMP:20260423T113726Z
URL:http://members.saukprairie.com/events/details/teen-tuesday-soapmaking-09-10-2019-23136
END:VEVENT

END:VCALENDAR
