BEGIN:VCALENDAR
VERSION:2.0
PRODID:-//ChamberMaster//Event Calendar 2.0//EN
METHOD:PUBLISH
X-PUBLISHED-TTL:P3D
REFRESH-INTERVAL:P3D
CALSCALE:GREGORIAN
BEGIN:VEVENT
DTSTART;VALUE=DATE:20240312
DTEND;VALUE=DATE:20240313
TRANSP:TRANSPARENT
X-MICROSOFT-CDO-ALLDAYEVENT:TRUE
SUMMARY:Teen Tuesday: Soft Pretzel Bar
DESCRIPTION:Teen Tuesday:  Soft Pretzel Bar @ Ruth Culver Community Library in Prairie du Sac starting @ 6:45 PM\n\n\n\nWe'll provide soft pretzels and a variety of sauces and toppings for our very own Pretzel Day! This event is especially for grades 6-12
X-ALT-DESC;FMTTYPE=text/html:Teen Tuesday:&nbsp\; Soft Pretzel Bar @ Ruth Culver Community Library in Prairie du Sac starting @ 6:45 PM<br />\n<br />\nWe&#39\;ll provide soft pretzels and a variety of sauces and toppings for our very own Pretzel Day! This event is especially for grades 6-12
LOCATION:Ruth Culver Community Library - Prairie du Sac
UID:e.1184.31585
SEQUENCE:3
DTSTAMP:20260419T232824Z
URL:http://members.saukprairie.com/events/details/teen-tuesday-soft-pretzel-bar-31585
END:VEVENT

END:VCALENDAR
