BEGIN:VCALENDAR
VERSION:2.0
PRODID:-//ChamberMaster//Event Calendar 2.0//EN
METHOD:PUBLISH
X-PUBLISHED-TTL:P3D
REFRESH-INTERVAL:P3D
CALSCALE:GREGORIAN
BEGIN:VEVENT
DTSTART:20190709T233000Z
DTEND:20190710T003000Z
X-MICROSOFT-CDO-ALLDAYEVENT:FALSE
SUMMARY:Teen Tuesday: Totally Tetris
DESCRIPTION:Challenge your friends to see who can get the highest Tetris score on iPads\, try giant Tetris and more at the Ruth Culver Community Library Tuesday\, July 9 at 6:30 p.m. Teen Tuesdays are especially for grades 6-12. Contact Meagan at 643-8318 with questions.
X-ALT-DESC;FMTTYPE=text/html:Challenge your friends to see who can get the highest Tetris score on iPads\, try giant Tetris and more at the Ruth Culver Community Library Tuesday\, July 9 at 6:30 p.m. Teen Tuesdays are especially for grades 6-12. Contact Meagan at 643-8318 with questions.
LOCATION:Ruth Culver Community Library 540 Water Street\, Prairie du Sac
UID:e.1184.22345
SEQUENCE:3
DTSTAMP:20260423T141733Z
URL:http://members.saukprairie.com/events/details/teen-tuesday-totally-tetris-22345
END:VEVENT

END:VCALENDAR
