BEGIN:VCALENDAR
VERSION:2.0
PRODID:-//ChamberMaster//Event Calendar 2.0//EN
METHOD:PUBLISH
X-PUBLISHED-TTL:P3D
REFRESH-INTERVAL:P3D
CALSCALE:GREGORIAN
BEGIN:VEVENT
DTSTART:20190611T233000Z
DTEND:20190612T003000Z
X-MICROSOFT-CDO-ALLDAYEVENT:FALSE
SUMMARY:Teen Tuesday: Trivia Challenge
DESCRIPTION:Challenge your friends to a trivia challenge at the Ruth Culver Community Library Tuesday\, June 11 at 6:30 p.m.  See who has the right answers...and the fastest fingers! Please bring a smartphone or mobile device if possible. A limited number of devices will be available for use. Teen Tuesdays are especially for grades 6-12. Contact Meagan at 643-8318 with questions.
X-ALT-DESC;FMTTYPE=text/html:Challenge your friends to a trivia challenge at the Ruth Culver Community Library Tuesday\, June 11 at 6:30 p.m.&nbsp\; See who has the right answers...and the fastest fingers! Please bring a smartphone or mobile device if possible. A limited number of devices will be available for use. Teen Tuesdays are especially for grades 6-12. Contact Meagan at 643-8318 with questions.
LOCATION:Ruth Culver Community Library 540 Water Street\, Prairie du Sac
UID:e.1184.22341
SEQUENCE:3
DTSTAMP:20260423T171713Z
URL:http://members.saukprairie.com/events/details/teen-tuesday-trivia-challenge-22341
END:VEVENT

END:VCALENDAR
