BEGIN:VCALENDAR
VERSION:2.0
PRODID:-//ChamberMaster//Event Calendar 2.0//EN
METHOD:PUBLISH
X-PUBLISHED-TTL:P3D
REFRESH-INTERVAL:P3D
CALSCALE:GREGORIAN
BEGIN:VEVENT
DTSTART:20191106T003000Z
DTEND:20191106T013000Z
X-MICROSOFT-CDO-ALLDAYEVENT:FALSE
SUMMARY:Teen Tuesday: Wizards Unite
DESCRIPTION:The world of Hogwarts needs your help. Come battle demetors\, trolls and other beasts at the Ruth Culver Community Library Tuesday\, November 5 at 6:30 p.m.  Library iPads will be available for use. This event is especially for grades 6-12. Contact Meagan at 643-8318 with questions.
X-ALT-DESC;FMTTYPE=text/html:The world of Hogwarts needs your help. Come battle demetors\, trolls and other beasts at the Ruth Culver Community Library Tuesday\, November 5 at 6:30 p.m.&nbsp\; Library iPads will be available for use. This event is especially for grades 6-12. Contact Meagan at 643-8318 with questions.
LOCATION:Ruth Culver Community Library 540 Water Street Prairie du Sac
UID:e.1184.23602
SEQUENCE:3
DTSTAMP:20260423T091525Z
URL:http://members.saukprairie.com/events/details/teen-tuesday-wizards-unite-23602
END:VEVENT

END:VCALENDAR
