BEGIN:VCALENDAR
VERSION:2.0
PRODID:-//ChamberMaster//Event Calendar 2.0//EN
METHOD:PUBLISH
X-PUBLISHED-TTL:P3D
REFRESH-INTERVAL:P3D
CALSCALE:GREGORIAN
BEGIN:VEVENT
DTSTART:20180806T233000Z
DTEND:20180807T003000Z
X-MICROSOFT-CDO-ALLDAYEVENT:FALSE
SUMMARY:Teen Upcycle Disc Craft
DESCRIPTION:Create your very own disc mosaic using recycles discs and other mix media materials. All materials are provided just bring your imagination!\n\nThis event is open to those between the age of 12-18.
X-ALT-DESC;FMTTYPE=text/html:<p>Create your very own disc mosaic using recycles discs and other mix media materials. All materials are provided just bring your imagination!</p>\n\n<p>This event is open to those between the age of 12-18.</p>\n
LOCATION:515 Water St Sauk City\, WI 53583
UID:e.1184.19396
SEQUENCE:3
DTSTAMP:20260424T082908Z
URL:http://members.saukprairie.com/events/details/teen-upcycle-disc-craft-19396
END:VEVENT

END:VCALENDAR
