BEGIN:VCALENDAR
VERSION:2.0
PRODID:-//ChamberMaster//Event Calendar 2.0//EN
METHOD:PUBLISH
X-PUBLISHED-TTL:P3D
REFRESH-INTERVAL:P3D
CALSCALE:GREGORIAN
BEGIN:VEVENT
DTSTART:20191016T193000Z
DTEND:20191016T203000Z
X-MICROSOFT-CDO-ALLDAYEVENT:FALSE
SUMMARY:Teen Virtual Reality Drop-In
DESCRIPTION:Teens\, ages 12- 18\, can drop-in after an early release day to try out games on the library's new virtual reality system.
X-ALT-DESC;FMTTYPE=text/html:<span style="font-family:arial\; font-size:11pt">Teens\, ages 12- 18\, can drop-in after an early release day to try out games on the library&rsquo\;s new virtual reality system. </span>
LOCATION:515 Water St Sauk City\, WI 53583
UID:e.1184.23165
SEQUENCE:3
DTSTAMP:20260423T095424Z
URL:http://members.saukprairie.com/events/details/teen-virtual-reality-drop-in-23165
END:VEVENT

END:VCALENDAR
