BEGIN:VCALENDAR
VERSION:2.0
PRODID:-//ChamberMaster//Event Calendar 2.0//EN
METHOD:PUBLISH
X-PUBLISHED-TTL:P3D
REFRESH-INTERVAL:P3D
CALSCALE:GREGORIAN
BEGIN:VEVENT
DTSTART:20160419T230000Z
DTEND:20160420T000000Z
X-MICROSOFT-CDO-ALLDAYEVENT:FALSE
SUMMARY:Teens Underground: Cupcake Wars
DESCRIPTION:Teens will decorate cupcakes at the library and then may submit their creations to be judged. Winners will be awarded books to keep! All materials provided.
X-ALT-DESC;FMTTYPE=text/html:<div>Teens will decorate cupcakes at the library and then may submit their creations to be judged. Winners will be awarded books to keep! All materials provided.</div>\n
LOCATION:Sauk City Public Library 515 Water St. Sauk City\, WI
UID:e.1184.8420
SEQUENCE:3
DTSTAMP:20260426T033025Z
URL:http://members.saukprairie.com/events/details/teens-underground-cupcake-wars-04-19-2016-8420
END:VEVENT

END:VCALENDAR
