BEGIN:VCALENDAR
VERSION:2.0
PRODID:-//ChamberMaster//Event Calendar 2.0//EN
METHOD:PUBLISH
X-PUBLISHED-TTL:P3D
REFRESH-INTERVAL:P3D
CALSCALE:GREGORIAN
BEGIN:VEVENT
DTSTART:20200515T010000Z
DTEND:20200515T030000Z
X-MICROSOFT-CDO-ALLDAYEVENT:FALSE
SUMMARY:TFT Funkin Up at Vintage Brewing
DESCRIPTION:TRT brings their funky soulful funky blues sound back to Vintage Brewing and Sauk City! Come on out enjoy dinner and listen or dance the evening away choice is yours but this isn't a show you want to miss! Family Friendly
X-ALT-DESC;FMTTYPE=text/html:<div class="_63eu" style="box-sizing: border-box\; font-size: 14px\; max-height: 260px\; overflow: hidden\; padding: 12px\; overflow-wrap: break-word\; font-family: Helvetica\, Arial\, sans-serif\; color: rgb(29\, 33\, 41)\;">\n<div class="_63ew" data-testid="event-permalink-details" style="font-family: inherit\;"><span style="color: rgb(29\, 33\, 41)\; font-family: Helvetica\, Arial\, sans-serif\; font-size: 14px\; white-space: pre-wrap\;">TRT brings their funky soulful funky blues sound back to Vintage Brewing and Sauk City! Come on out enjoy dinner and listen or dance the evening away choice is yours but this isn&#39\;t a show you want to miss! Family Friendly</span></div>\n\n<div>&nbsp\;</div>\n</div>\n
LOCATION:Vintage Brewing Co. 600 Water St. Sauk City
UID:e.1184.24097
SEQUENCE:3
DTSTAMP:20260423T002254Z
URL:http://members.saukprairie.com/events/details/tft-funkin-up-at-vintage-brewing-24097
END:VEVENT

END:VCALENDAR
