BEGIN:VCALENDAR
VERSION:2.0
PRODID:-//ChamberMaster//Event Calendar 2.0//EN
METHOD:PUBLISH
X-PUBLISHED-TTL:P3D
REFRESH-INTERVAL:P3D
CALSCALE:GREGORIAN
BEGIN:VEVENT
DTSTART:20200701T190000Z
DTEND:20200701T210000Z
X-MICROSOFT-CDO-ALLDAYEVENT:FALSE
SUMMARY:Thanksgiving Every Day
DESCRIPTION:Join us for a virtual event with local author\, blogger\, and speaker\, Keri Olson!\n\n\n\nLearn ways to add joy to your life by adopting an attitude of gratitude this\n\n\n\nPresentation is offered at no cost.\n\n\n\nPre-registration is required to get online access information to attend.\n\n\n\nRegistrants can attend either by phone or online.\n\n\n\nTo register\, contact glaack@co.juneau.wi.us or 608-548-3954
X-ALT-DESC;FMTTYPE=text/html:Join us for a virtual event with local author\, blogger\, and speaker\, Keri Olson!<br />\n<br />\nLearn ways to add joy to your life by adopting an attitude of gratitude this<br />\n<br />\nPresentation is offered at no cost.<br />\n<br />\nPre-registration is required to get online access information to attend.<br />\n<br />\nRegistrants can attend either by phone or online.<br />\n<br />\nTo register\, contact glaack@co.juneau.wi.us or 608-548-3954
LOCATION:
UID:e.1184.26023
SEQUENCE:3
DTSTAMP:20260422T194705Z
URL:http://members.saukprairie.com/events/details/thanksgiving-every-day-26023
END:VEVENT

END:VCALENDAR
