BEGIN:VCALENDAR
VERSION:2.0
PRODID:-//ChamberMaster//Event Calendar 2.0//EN
METHOD:PUBLISH
X-PUBLISHED-TTL:P3D
REFRESH-INTERVAL:P3D
CALSCALE:GREGORIAN
BEGIN:VEVENT
DTSTART:20191128T170000Z
DTEND:20191128T200000Z
X-MICROSOFT-CDO-ALLDAYEVENT:FALSE
SUMMARY:Thanksgiving Feast
DESCRIPTION:Join Us For Our Thanksgiving Feast \n\nThursday\, November 28\n\n11 am-2 pm \n\n \n\n\nRoast Turkey\, Baked Chicken\, Honey Glazed Ham\, Real Mashed\n\nPotatoes\, Homemade Dressing\, Sweet Potatoes\, Peppered Corn\,\n\nCarameled Carrots\, Cranberries\, Salad Bar\, Rolls\, Homemade\n\nPumpkin Pie or Ice Cream\n\nAdults - $19.25\n\nChildren ages 5-12 $7.95\n\nTots 4 and under $3 \n\n \n\n \n\n                                                                     Reservations Only  \n\n \n\n\nNovember is pancreatic cancer awareness\n\nmonth: 15% of Nov. 28 proceeds\n\nwill go to pancreatic cancer research in\n\nmemory of our Mom\, Betty Maier.
X-ALT-DESC;FMTTYPE=text/html:<div style="padding: 0px\; margin: 0px\; color: rgb(255\, 255\, 255)\; font-family: Arial\, Helvetica\, sans-serif\; font-size: 12px\; background-color: rgb(0\, 0\, 0)\; text-align: center\;"><span style="padding: 0px\; margin: 0px\; font-size: 24px\; background: none !important\;"><strong style="padding: 0px\; margin: 0px\;">Join Us For Our&nbsp\;</strong></span><strong style="padding: 0px\; margin: 0px\;"><span style="padding: 0px\; margin: 0px\; font-size: 14pt\; background: none !important\;"><span style="padding: 0px\; margin: 0px\; font-size: 24pt\; background: none !important\;"><span style="padding: 0px\; margin: 0px\; font-size: 18pt\; background: none !important\;">Thanksgiving Feast&nbsp\;</span></span></span></strong></div>\n\n<div style="padding: 0px\; margin: 0px\; color: rgb(255\, 255\, 255)\; font-family: Arial\, Helvetica\, sans-serif\; font-size: 12px\; background-color: rgb(0\, 0\, 0)\; text-align: center\;"><span style="padding: 0px\; margin: 0px\; font-size: 14pt\; background: none !important\;">Thursday\, November 28</span></div>\n\n<div style="padding: 0px\; margin: 0px\; color: rgb(255\, 255\, 255)\; font-family: Arial\, Helvetica\, sans-serif\; font-size: 12px\; background-color: rgb(0\, 0\, 0)\; text-align: center\;"><span style="padding: 0px\; margin: 0px\; font-size: 14pt\; background: none !important\;">11 am-2 pm&nbsp\;</span></div>\n\n<div style="padding: 0px\; margin: 0px\; color: rgb(255\, 255\, 255)\; font-family: Arial\, Helvetica\, sans-serif\; font-size: 12px\; background-color: rgb(0\, 0\, 0)\;">&nbsp\;</div>\n\n<div style="padding: 0px\; margin: 0px\; color: rgb(255\, 255\, 255)\; font-family: Arial\, Helvetica\, sans-serif\; font-size: 12px\; background-color: rgb(0\, 0\, 0)\;">\n<div id="pastingspan1" style="padding: 0px\; margin: 0px\; text-align: center\;"><span style="padding: 0px\; margin: 0px\; font-size: 14pt\; background: none !important\;">Roast Turkey\, Baked Chicken\, Honey Glazed Ham\, Real Mashed</span></div>\n\n<div id="pastingspan1" style="padding: 0px\; margin: 0px\; text-align: center\; font-size: 14pt\;">Potatoes\, Homemade Dressing\, Sweet Potatoes\, Peppered Corn\,</div>\n\n<div id="pastingspan1" style="padding: 0px\; margin: 0px\; text-align: center\; font-size: 14pt\;">Carameled Carrots\, Cranberries\, Salad Bar\, Rolls\, Homemade</div>\n\n<div id="pastingspan1" style="padding: 0px\; margin: 0px\; text-align: center\; font-size: 14pt\;">Pumpkin Pie or Ice Cream</div>\n\n<div style="padding: 0px\; margin: 0px\; text-align: center\;"><em style="padding: 0px\; margin: 0px\;">Adults - $19.25</em></div>\n\n<div style="padding: 0px\; margin: 0px\; text-align: center\;"><em style="padding: 0px\; margin: 0px\;">Children ages 5-12 $7.95</em></div>\n\n<div style="padding: 0px\; margin: 0px\; text-align: center\;"><em style="padding: 0px\; margin: 0px\;">Tots 4 and under $3&nbsp\;</em></div>\n\n<div style="padding: 0px\; margin: 0px\;">&nbsp\;</div>\n\n<div style="padding: 0px\; margin: 0px\;">&nbsp\;</div>\n\n<div style="padding: 0px\; margin: 0px\;"><span style="padding: 0px\; margin: 0px\; text-align: center\; background: none !important\;">&nbsp\;&nbsp\;&nbsp\;&nbsp\;&nbsp\;&nbsp\;&nbsp\;&nbsp\;&nbsp\;&nbsp\;&nbsp\;&nbsp\;&nbsp\;&nbsp\;&nbsp\;&nbsp\;&nbsp\;&nbsp\;&nbsp\;&nbsp\;&nbsp\;&nbsp\;&nbsp\;&nbsp\;&nbsp\;&nbsp\;&nbsp\;&nbsp\;&nbsp\;&nbsp\;&nbsp\;&nbsp\;&nbsp\;&nbsp\;&nbsp\;&nbsp\;&nbsp\;&nbsp\;&nbsp\;&nbsp\;&nbsp\;&nbsp\;&nbsp\;&nbsp\;&nbsp\;&nbsp\;&nbsp\;&nbsp\;&nbsp\;&nbsp\;&nbsp\;&nbsp\;&nbsp\;&nbsp\;&nbsp\;&nbsp\;&nbsp\;&nbsp\;&nbsp\;&nbsp\;&nbsp\;&nbsp\;&nbsp\;&nbsp\;&nbsp\;&nbsp\;&nbsp\;&nbsp\;&nbsp\;Reservations Only&nbsp\;</span>&nbsp\;</div>\n\n<div style="padding: 0px\; margin: 0px\;">&nbsp\;</div>\n\n<div style="padding: 0px\; margin: 0px\;">\n<div id="pastingspan1" style="padding: 0px\; margin: 0px\; text-align: center\;"><span style="padding: 0px\; margin: 0px\; font-size: 14pt\; background: none !important\;"><strong style="padding: 0px\; margin: 0px\;">November is pancreatic cancer awareness</strong></span></div>\n\n<div id="pastingspan1" style="padding: 0px\; margin: 0px\; text-align: center\; font-size: 14pt\;"><strong style="padding: 0px\; margin: 0px\;">month: 15% of Nov. 28 proceeds</strong></div>\n\n<div id="pastingspan1" style="padding: 0px\; margin: 0px\; text-align: center\; font-size: 14pt\;"><strong style="padding: 0px\; margin: 0px\;">will go to pancreatic cancer research in</strong></div>\n\n<div id="pastingspan1" style="padding: 0px\; margin: 0px\; text-align: center\;"><span style="padding: 0px\; margin: 0px\; font-size: 14pt\; background: none !important\;"><strong style="padding: 0px\; margin: 0px\;">memory of our Mom\, Betty Maier.</strong></span></div>\n</div>\n</div>\n
LOCATION:Dorf Haus
UID:e.1184.23622
SEQUENCE:3
DTSTAMP:20260423T083105Z
URL:http://members.saukprairie.com/events/details/thanksgiving-feast-23622
END:VEVENT

END:VCALENDAR
