BEGIN:VCALENDAR
VERSION:2.0
PRODID:-//ChamberMaster//Event Calendar 2.0//EN
METHOD:PUBLISH
X-PUBLISHED-TTL:P3D
REFRESH-INTERVAL:P3D
CALSCALE:GREGORIAN
BEGIN:VEVENT
DTSTART:20191128T170000Z
DTEND:20191128T210000Z
X-MICROSOFT-CDO-ALLDAYEVENT:FALSE
SUMMARY:Thanksgiving Fellowship Meal
DESCRIPTION:At the Saint Aloysius Gym\n\n\n\nThursday\, November 28\, 2019\n\nDinner served at Noon\n\n\n\nNO CHARGE & EVERYONE IS WELCOME\n\n\n\nHome deliveries are also offered by calling\n\nLauren Maier - 608-370-9508 or Sandy Maier - 608-448-5131\n\nmaierfamily@hotmail.com\n\n\n\nDeliveries will commence at 11:00a.m. Thanksgiving morning. If you wish to volunteer please call Lauren or Sandy.\n\n\n\nThank you for the generous food donations by area businesses and the donations and efforts of many community members.
X-ALT-DESC;FMTTYPE=text/html:At the Saint Aloysius Gym<br />\n<br />\nThursday\, November 28\, 2019<br />\nDinner served at Noon<br />\n<br />\nNO CHARGE &amp\; EVERYONE IS WELCOME<br />\n<br />\nHome deliveries are also offered by calling<br />\nLauren Maier - 608-370-9508 or Sandy Maier - 608-448-5131<br />\nmaierfamily@hotmail.com<br />\n<br />\nDeliveries will commence at 11:00a.m. Thanksgiving morning. If you wish to volunteer please call Lauren or Sandy.<br />\n<br />\nThank you for the generous food donations by area businesses and the donations and efforts of many community members.
LOCATION:At the Saint Aloysius Gym
UID:e.1184.23624
SEQUENCE:3
DTSTAMP:20260423T095342Z
URL:http://members.saukprairie.com/events/details/thanksgiving-fellowship-meal-23624
END:VEVENT

END:VCALENDAR
