BEGIN:VCALENDAR
VERSION:2.0
PRODID:-//ChamberMaster//Event Calendar 2.0//EN
METHOD:PUBLISH
X-PUBLISHED-TTL:P3D
REFRESH-INTERVAL:P3D
CALSCALE:GREGORIAN
BEGIN:VEVENT
DTSTART:20201126T170000Z
DTEND:20201126T210000Z
X-MICROSOFT-CDO-ALLDAYEVENT:FALSE
SUMMARY:Thanksgiving Fellowship Meal
DESCRIPTION:ST. ALOYSIUS SCHOOL\n\nDELIVERIES AND CARRY OUTS ONLY \n\nNO SIT-DOWN DINING \n\n \n\nFor Home Deliveries \n\nLauren Maier   608-370-9508 or Sandy Maier   608-448-5131 \n\nPhone calls only\, NO E-mails\n\n \n\nDrive Through Carry Outs\n\nPlease call Lauren or Sandy Maier no later than November 25 \n\nCarry Outs will begin at 12:30 \n\n \n\nDeliveries will commence at 11:00 AM Thanksgiving morning.  If you wish to volunteer\, please call Lauren or Sandy.\n\n \n\nThank you for the generous food donations by area businesses\, and the donations and efforts of many community members.
X-ALT-DESC;FMTTYPE=text/html:<strong><span style="color:#009900\;"><span style="font-size:24.0pt\;">ST. ALOYSIUS SCHOOL</span></span></strong><br />\n<strong><span style="color:#009900\;"><span style="font-size:24.0pt\;">DELIVERIES AND CARRY OUTS ONLY </span></span></strong><br />\n<strong><span style="color:#009900\;"><span style="font-size:24.0pt\;">NO SIT-DOWN DINING </span></span></strong><br />\n&nbsp\;<br />\n<strong><span style="font-size:18.0pt\;">For Home Deliveries </span></strong><br />\n<strong><span style="font-size:18.0pt\;">Lauren Maier &ndash\; 608-370-9508 or Sandy Maier &ndash\; 608-448-5131 </span></strong><br />\n<strong><span style="font-size:18.0pt\;">Phone calls only\, NO E-mails</span></strong><br />\n&nbsp\;<br />\n<strong><span style="font-size:18.0pt\;">Drive Through Carry Outs</span></strong><br />\n<strong><span style="font-size:18.0pt\;">Please call Lauren or Sandy Maier no later than November 25 </span></strong><br />\n<strong><span style="font-size:18.0pt\;">Carry Outs will begin at 12:30 </span></strong><br />\n&nbsp\;<br />\n<strong><span style="font-size:18.0pt\;">Deliveries will commence at 11:00 AM Thanksgiving morning.&nbsp\; If you wish to volunteer\, please call Lauren or Sandy.</span></strong><br />\n&nbsp\;<br />\n<strong><span style="color:#7030A0\;"><span style="font-size:18.0pt\;">Thank you for the generous food donations by area businesses\, and the donations and efforts of many community members.</span></span></strong>
LOCATION:At the Saint Aloysius Gym
UID:e.1184.26142
SEQUENCE:3
DTSTAMP:20260422T135115Z
URL:http://members.saukprairie.com/events/details/thanksgiving-fellowship-meal-26142
END:VEVENT

END:VCALENDAR
