BEGIN:VCALENDAR
VERSION:2.0
PRODID:-//ChamberMaster//Event Calendar 2.0//EN
METHOD:PUBLISH
X-PUBLISHED-TTL:P3D
REFRESH-INTERVAL:P3D
CALSCALE:GREGORIAN
BEGIN:VEVENT
DTSTART:20211125T170000Z
DTEND:20211125T210000Z
X-MICROSOFT-CDO-ALLDAYEVENT:FALSE
SUMMARY:Thanksgiving Fellowship Meal
DESCRIPTION:No Charge & Everyone is Welcome!\n\n\n\n \n\nHome Deliveries are also offered by calling Lauren Maier - 608-370-9508 or Sandy Maier - 608-448-5131.\n\nPLEASE LEAVE A MESSAGE WITH NAME AND PHONE NUMBER. DO NOT SEND E-MAILS ORDERS MUST BE PLACED NO LATER THAN NOVEMBER 23RD. \n\n\n\nSit down dinner will start at 12:00pm.\n\n\n\nDeliveries will commence at 11:00 AM Thanksgiving morning.  If you wish to volunteer\, please call Lauren or Sandy Maier.\n\n \n\nThank you for the generous food donations by area businesses\, and the donations and efforts of many community members.
X-ALT-DESC;FMTTYPE=text/html:<span style="font-size: 24px\;"><b>No Charge &amp\; Everyone is Welcome!</b></span><br />\n<br />\n&nbsp\;<br />\n<strong><span style="font-size:18.0pt\;">Home Deliveries are also offered by calling Lauren Maier - 608-370-9508 or Sandy Maier - 608-448-5131.<br />\n<span style="font-size:16px\;">PLEASE LEAVE A MESSAGE WITH NAME AND PHONE NUMBER. DO NOT SEND E-MAILS ORDERS MUST BE PLACED NO LATER THAN NOVEMBER 23RD.&nbsp\;</span><br />\n<br />\nSit down dinner will start at 12:00pm.<br />\n<br />\nDeliveries will commence at 11:00 AM Thanksgiving morning.&nbsp\; If you wish to volunteer\, please call Lauren or Sandy Maier.</span></strong><br />\n&nbsp\;<br />\n<strong><span style="color:#7030A0\;"><span style="font-size:18.0pt\;">Thank you for the generous food donations by area businesses\, and the donations and efforts of many community members.</span></span></strong>
LOCATION:At the Saint Aloysius Gym 608 Oak Street\, Sauk City
UID:e.1184.26920
SEQUENCE:3
DTSTAMP:20260421T202835Z
URL:http://members.saukprairie.com/events/details/thanksgiving-fellowship-meal-26920
END:VEVENT

END:VCALENDAR
