BEGIN:VCALENDAR
VERSION:2.0
PRODID:-//ChamberMaster//Event Calendar 2.0//EN
METHOD:PUBLISH
X-PUBLISHED-TTL:P3D
REFRESH-INTERVAL:P3D
CALSCALE:GREGORIAN
BEGIN:VEVENT
DTSTART:20231123T170000Z
DTEND:20231123T200000Z
X-MICROSOFT-CDO-ALLDAYEVENT:FALSE
SUMMARY:Thanksgiving Fellowship Meal
DESCRIPTION:Dinner Served at 12 pm\n\n\n\nNo Charge & Everyone is Welcome!\n\n\n\n \n\nHome Deliveries and Meal Pick-Ups\n\nCall Lauren Maier - 608-417-0624 or Sandy Maier - 608-448-5131\, Phone Calls only.\n\nPlease call no later than November 22nd.\n\n\n\nDeliveries will begin at 11 am Thanksgiving morning. If you wish to volunteer for kitchen\, serving\, driving\, please call Lauren or Sandy. \n\n \n\nThank you for the generous food donations by area businesses\, and the donations and efforts of many community members.
X-ALT-DESC;FMTTYPE=text/html:<span style="font-size: 24px\;"><b>Dinner Served at 12 pm<br />\n<br />\nNo Charge &amp\; Everyone is Welcome!</b></span><br />\n<br />\n&nbsp\;<br />\n<span style="font-size: 24px\;"><b>Home Deliveries and Meal Pick-Ups<br />\nCall Lauren Maier - 608-417-0624 or Sandy Maier - 608-448-5131\, Phone Calls only.<br />\nPlease call no later than November 22nd.<br />\n<br />\nDeliveries will begin at 11 am Thanksgiving morning. If you wish to volunteer for kitchen\, serving\, driving\, please call Lauren or Sandy.&nbsp\;</b></span><br />\n&nbsp\;<br />\n<strong><span style="color:#7030A0\;"><span style="font-size:18.0pt\;">Thank you for the generous food donations by area businesses\, and the donations and efforts of many community members.</span></span></strong>
LOCATION:At the Saint Aloysius Gym 608 Oak Street\, Sauk City
UID:e.1184.31211
SEQUENCE:3
DTSTAMP:20260420T061843Z
URL:http://members.saukprairie.com/events/details/thanksgiving-fellowship-meal-31211
END:VEVENT

END:VCALENDAR
