BEGIN:VCALENDAR
VERSION:2.0
PRODID:-//ChamberMaster//Event Calendar 2.0//EN
METHOD:PUBLISH
X-PUBLISHED-TTL:P3D
REFRESH-INTERVAL:P3D
CALSCALE:GREGORIAN
BEGIN:VEVENT
DTSTART:20231122T000000Z
DTEND:20231122T020000Z
X-MICROSOFT-CDO-ALLDAYEVENT:FALSE
SUMMARY:Thanksgiving Meat Raffle - WIN A TURKEY
DESCRIPTION:The Shop Bar & Grill will host a meat raffle with a chance to win a FREE Thanksgiving turkey!! Join us Tuesday night the week of Thanksgiving to win some meat and enter in for a chance to win a 15lb turkey.\n\n \n\nMeat raffle from 6pm-8pm\, with drink chip giveaways\, as well as the grand finale - a 15 POUND TURKEY!
X-ALT-DESC;FMTTYPE=text/html:<div><strong>The Shop Bar &amp\; Grill </strong>will host a meat raffle with a chance to win a <strong><span style="color:#8B4513">FREE Thanksgiving turkey</span></strong>!! Join us Tuesday night the week of Thanksgiving to win some meat and enter in for a chance to win a 15lb turkey.<br />\n&nbsp\;</div>\n\n<div>Meat raffle from 6pm-8pm\, with drink chip giveaways\, as well as the grand finale - a 15 POUND TURKEY!</div>\n
LOCATION:The Shop Bar & Grill
UID:e.1184.31213
SEQUENCE:3
DTSTAMP:20260420T044626Z
URL:http://members.saukprairie.com/events/details/thanksgiving-meat-raffle-win-a-turkey-31213
END:VEVENT

END:VCALENDAR
