BEGIN:VCALENDAR
VERSION:2.0
PRODID:-//ChamberMaster//Event Calendar 2.0//EN
METHOD:PUBLISH
X-PUBLISHED-TTL:P3D
REFRESH-INTERVAL:P3D
CALSCALE:GREGORIAN
BEGIN:VEVENT
DTSTART;VALUE=DATE:20190711
DTEND;VALUE=DATE:20190712
TRANSP:TRANSPARENT
X-MICROSOFT-CDO-ALLDAYEVENT:TRUE
SUMMARY:The Amazing Transformation of the Badger Army Ammunition Plant
DESCRIPTION:Pine Glen Senior Apartments\n\ninvites you to\n\nThe Amazing Transformation of the Badger Army Ammunition Plant\n\n\n\nGiven by Charlie Luthin\, Executive Director of the\n\nSauk Prairie Conservation Alliance\n\n\n\nPlease RSVP to Kelly at 643-3331 or\n\nkelly@elderspan.com.\n\npinesprairiedusac.com
X-ALT-DESC;FMTTYPE=text/html:Pine Glen Senior Apartments<br />\ninvites you to<br />\nThe Amazing Transformation of the Badger Army Ammunition Plant<br />\n<br />\nGiven by Charlie Luthin\, Executive Director of the<br />\nSauk Prairie Conservation Alliance<br />\n<br />\nPlease RSVP to Kelly at 643-3331 or<br />\nkelly@elderspan.com.<br />\npinesprairiedusac.com
LOCATION:930 Prairie St. in Prairie du Sac
UID:e.1184.22589
SEQUENCE:3
DTSTAMP:20260423T141859Z
URL:http://members.saukprairie.com/events/details/the-amazing-transformation-of-the-badger-army-ammunition-plant-22589
END:VEVENT

END:VCALENDAR
