BEGIN:VCALENDAR
VERSION:2.0
PRODID:-//ChamberMaster//Event Calendar 2.0//EN
METHOD:PUBLISH
X-PUBLISHED-TTL:P3D
REFRESH-INTERVAL:P3D
CALSCALE:GREGORIAN
BEGIN:VEVENT
DTSTART:20230509T233000Z
DTEND:20230510T003000Z
X-MICROSOFT-CDO-ALLDAYEVENT:FALSE
SUMMARY:The Apples of Sauk County
DESCRIPTION:THE APPLES OF SAUK COUNTY\n\nTuesday\, May 9 at 6:30 p.m.\n\nSauk County is home to a number of early\, important apple growers and nurserymen. They made significant contributions to the apple varieties our ancestors grew that we are now rediscovering. This talk is about them and the search for the lost varieties they grew. A field trip will follow on Saturday\, May 20. More details will be available at the lecture. This event is sponsored by the Rooted in Conservation Fund through the Community Foundation of South Central Wisconsin. \n\n\n\nDan Bussey\, our lecturer\, is a lifelong apple grower\, cider maker and apple historian and author of the "Illustrated History of Apples in the United States and Canada." He is the former orchard manager of the Seed Saver's Exchange of Decorah\, Iowa and the current orchard manager at Silverwood County Park\, Edgerton\, a community orchard with over 600 varieties and many are Wisconsin heirloom varieties.
X-ALT-DESC;FMTTYPE=text/html:THE APPLES OF SAUK COUNTY<br />\nTuesday\, May 9 at 6:30 p.m.<br />\nSauk County is home to a number of early\, important apple growers and nurserymen. They made significant contributions to the apple varieties our ancestors grew that we are now rediscovering. This talk is about them and the search for the lost varieties they grew. A field trip will follow on Saturday\, May 20. More details will be available at the lecture. This event is sponsored by the Rooted in Conservation Fund through the Community Foundation of South Central Wisconsin.&nbsp\;<br />\n<br />\nDan Bussey\, our lecturer\, is a lifelong apple grower\, cider maker and apple historian and author of the &quot\;Illustrated History of Apples in the United States and Canada.&quot\; He is the former orchard manager of the Seed Saver&#39\;s Exchange of Decorah\, Iowa and the current orchard manager at Silverwood County Park\, Edgerton\, a community orchard with over 600 varieties and many are Wisconsin heirloom varieties.
LOCATION:615 Phillips Blvd Sauk City\, WI
UID:e.1184.30723
SEQUENCE:3
DTSTAMP:20260420T144317Z
URL:http://members.saukprairie.com/events/details/the-apples-of-sauk-county-30723
END:VEVENT

END:VCALENDAR
