BEGIN:VCALENDAR
VERSION:2.0
PRODID:-//ChamberMaster//Event Calendar 2.0//EN
METHOD:PUBLISH
X-PUBLISHED-TTL:P3D
REFRESH-INTERVAL:P3D
CALSCALE:GREGORIAN
BEGIN:VEVENT
DTSTART;VALUE=DATE:20181019
DTEND;VALUE=DATE:20181022
TRANSP:TRANSPARENT
X-MICROSOFT-CDO-ALLDAYEVENT:TRUE
SUMMARY:The Bard is Back
DESCRIPTION:SPMS Drama presents:  "The Bard is Back-- a musical" \n\nShow dates:  October 19\, 20\,  @ 7:00\, 21 @ 2:00\n\nRiver Arts Center\n\nTickets are $5.00 for students\, $8.00 for adults.  Available at the door.\n \n\nThe students of Hilltop High are excited! They're going to put on a performance of "Romeo and Juliet." But the music  director\, Miss Peggy Donahue\, pressed into service by a principal eager to please his superintendent is horrified. Twenty years before\, when she was a student at Hilltop High\, she starred in a disastrous musical version of Shakespeare's "Scottish Play\," and she believes the curse lingers on. Sure enough\, everything that can go wrong does.Add a hysterical playwright ( the superitendent's wife)\, a  pushy stage mom \, and a mysterious cult of techies who pledge allegiance to their favorite "tool\," duct tape\,and a football star who wants to be in the musical and you have a rolicking comedy.
X-ALT-DESC;FMTTYPE=text/html:<p dir="ltr" style="line-height:1.38\;margin-top:0pt\;margin-bottom:0pt\;"><span id="docs-internal-guid-3edadc39-7fff-92c4-8ce1-d6121b49ecd6"><span style="font-size: 11pt\; font-family: Acme\; color: rgb(0\, 0\, 0)\; background-color: transparent\; font-variant-numeric: normal\; font-variant-east-asian: normal\; vertical-align: baseline\; white-space: pre-wrap\;">SPMS Drama presents: &nbsp\;&ldquo\;The Bard is Back-- a musical&rdquo\; </span></span></p>\n\n<p dir="ltr" style="line-height:1.38\;margin-top:0pt\;margin-bottom:0pt\;"><span id="docs-internal-guid-3edadc39-7fff-92c4-8ce1-d6121b49ecd6"><span style="font-size: 11pt\; font-family: Acme\; color: rgb(0\, 0\, 0)\; background-color: transparent\; font-variant-numeric: normal\; font-variant-east-asian: normal\; vertical-align: baseline\; white-space: pre-wrap\;">Show dates: &nbsp\;October 19\, 20\, &nbsp\;@ 7:00\, 21 @ 2:00</span></span></p>\n\n<p dir="ltr" style="line-height:1.38\;margin-top:0pt\;margin-bottom:0pt\;"><span id="docs-internal-guid-3edadc39-7fff-92c4-8ce1-d6121b49ecd6"><span style="font-size: 11pt\; font-family: Acme\; color: rgb(0\, 0\, 0)\; background-color: transparent\; font-variant-numeric: normal\; font-variant-east-asian: normal\; vertical-align: baseline\; white-space: pre-wrap\;">River Arts Center</span></span></p>\n\n<p dir="ltr" style="line-height:1.38\;margin-top:0pt\;margin-bottom:0pt\;"><span id="docs-internal-guid-3edadc39-7fff-92c4-8ce1-d6121b49ecd6"><span style="font-size: 11pt\; font-family: Acme\; color: rgb(0\, 0\, 0)\; background-color: transparent\; font-variant-numeric: normal\; font-variant-east-asian: normal\; vertical-align: baseline\; white-space: pre-wrap\;">Tickets are $5.00 for students\, $8.00 for adults. &nbsp\;Available at the door.</span></span></p>\n&nbsp\;\n\n<p dir="ltr" style="line-height:1.38\;margin-top:0pt\;margin-bottom:0pt\;"><span id="docs-internal-guid-3edadc39-7fff-92c4-8ce1-d6121b49ecd6"><span style="font-size: 10.5pt\; font-family: Acme\; color: rgb(102\, 102\, 102)\; font-variant-numeric: normal\; font-variant-east-asian: normal\; vertical-align: baseline\; white-space: pre-wrap\;">The students of Hilltop High are excited! They&#39\;re going to put on a performance of &quot\;Romeo and Juliet.&quot\; But the music &nbsp\;director\, Miss Peggy Donahue\, pressed into service by a principal eager to please his superintendent is horrified. Twenty years before\, when she was a student at Hilltop High\, she starred in a disastrous musical version of Shakespeare&#39\;s &quot\;Scottish Play\,&quot\; and she believes the curse lingers on. Sure enough\, everything that can go wrong does.Add a hysterical playwright ( the superitendent&rsquo\;s wife)\, a &nbsp\;pushy stage mom \, and a mysterious cult of techies who pledge allegiance to their favorite &quot\;tool\,&quot\; duct tape\,and a football star who wants to be in the musical and you have a rolicking comedy. </span></span></p>\n\n<div>&nbsp\;</div>\n
LOCATION:
UID:e.1184.21335
SEQUENCE:3
DTSTAMP:20260424T033723Z
URL:http://members.saukprairie.com/events/details/the-bard-is-back-21335
END:VEVENT

END:VCALENDAR
