BEGIN:VCALENDAR
VERSION:2.0
PRODID:-//ChamberMaster//Event Calendar 2.0//EN
METHOD:PUBLISH
X-PUBLISHED-TTL:P3D
REFRESH-INTERVAL:P3D
CALSCALE:GREGORIAN
BEGIN:VEVENT
DTSTART:20190626T180000Z
DTEND:20190626T190000Z
X-MICROSOFT-CDO-ALLDAYEVENT:FALSE
SUMMARY:The Circus Dogs
DESCRIPTION:Dash and Copper may be "snack sized" dogs\, but they have the circus trick skills of ten full-sized dogs! These talented tykes and their handler\, Sharon Page\, will wow you with their nationally and internationally known tricks. This event is sponsored by the Sauk Prairie Community Club.
X-ALT-DESC;FMTTYPE=text/html:Dash and Copper may be &ldquo\;snack sized&rdquo\; dogs\, but they have the circus trick skills of ten full-sized dogs! These talented tykes and their handler\, Sharon Page\, will wow you with their nationally and internationally known tricks. This event is sponsored by the Sauk Prairie Community Club.
LOCATION:515 Water St Sauk City\, WI 53583
UID:e.1184.22453
SEQUENCE:3
DTSTAMP:20260423T153510Z
URL:http://members.saukprairie.com/events/details/the-circus-dogs-22453
END:VEVENT

END:VCALENDAR
