BEGIN:VCALENDAR
VERSION:2.0
PRODID:-//ChamberMaster//Event Calendar 2.0//EN
METHOD:PUBLISH
X-PUBLISHED-TTL:P3D
REFRESH-INTERVAL:P3D
CALSCALE:GREGORIAN
BEGIN:VEVENT
DTSTART:20180427T230000Z
DTEND:20180428T000000Z
X-MICROSOFT-CDO-ALLDAYEVENT:FALSE
SUMMARY:The Circus Dogs: Dash & Copper
DESCRIPTION:Celebrate Children's Day/Book Day at the Ruth Culver Community Library Friday\, April 27 at 6:00 p.m.  Sharon Yildez and her famous Circus Dogs\, Dash and Copper\, will be here to entertain you! They've performed on the Steve Harvey Show\, America's Funniest People\, and the American Kennel Club National Championship.  There will also be cake\, pi atas and book prize drawings. It's fun for the whole family! Contact Heather Cole at 643-8318 with questions.
X-ALT-DESC;FMTTYPE=text/html:Celebrate Children&#39\;s Day/Book Day at the Ruth Culver Community Library Friday\, April 27 at 6:00 p.m.&nbsp\; Sharon Yildez and her famous Circus Dogs\, Dash and Copper\, will be here to entertain you! They&#39\;ve performed on the Steve Harvey Show\, America&#39\;s Funniest People\, and the American Kennel Club National Championship.&nbsp\; There will also be cake\, pi&ntilde\;atas and book prize drawings. It&#39\;s fun for the whole family! Contact Heather Cole at 643-8318 with questions.
LOCATION:Ruth Culver Community Library 540 Water Street\, Prairie du Sac
UID:e.1184.17743
SEQUENCE:3
DTSTAMP:20260424T125724Z
URL:http://members.saukprairie.com/events/details/the-circus-dogs-dash-copper-17743
END:VEVENT

END:VCALENDAR
