BEGIN:VCALENDAR
VERSION:2.0
PRODID:-//ChamberMaster//Event Calendar 2.0//EN
METHOD:PUBLISH
X-PUBLISHED-TTL:P3D
REFRESH-INTERVAL:P3D
CALSCALE:GREGORIAN
BEGIN:VEVENT
DTSTART:20210119T000000Z
DTEND:20210119T003000Z
X-MICROSOFT-CDO-ALLDAYEVENT:FALSE
SUMMARY:The Cliff Effect: 1 Step Forward\, 2 Steps Back (Circles Big View Night)
DESCRIPTION:Link to Live stream:\n\nhttps://www.facebook.com/MakingServicePersonal.org/posts/3864189143645373\n\nTiered benefits for people in poverty create a Cliff Effect. As their income increases\, they lose more in benefits than they have coming in from their increase in income. Join us as we discuss the Cliff Effect and the hurdles it creates for people working their way out of poverty\n\n  Learn how Circles Sauk Prairie is making the shift from managing poverty to reducing it\n\n  Hear from Circle Leaders and their Allies to see the impact Circles is already making\n\n  Join us for learning\, fellowship\, and problem-solving\n\n**Presented Virtually**\n\nRSVP:\n\n608-561-8468\n\n68@makingservicepersonal.org\n\nwww.makingservicepersonal.org\n\n--\n\nCircles Big View is working with the Sauk Prairie community to address the big\, systemic issues that cause poverty.\n\nFor more information on Circles Sauk Prairie\, visit: http://www.makingservicepersonal.org/circles\n\nTo learn more about Circles\, visit:\n\nhttps://www.circlesusa.org/
X-ALT-DESC;FMTTYPE=text/html:<div>Link to Live stream:<br />\n<a class="oajrlxb2 g5ia77u1 qu0x051f esr5mh6w e9989ue4 r7d6kgcz rq0escxv nhd2j8a9 nc684nl6 p7hjln8o kvgmc6g5 cxmmr5t8 oygrvhab hcukyx3x jb3vyjys rz4wbd8a qt6c0cv9 a8nywdso i1ao9s8h esuyzwwr f1sip0of lzcic4wl oo9gr5id gpro0wi8 lrazzd5p" href="https://www.facebook.com/MakingServicePersonal.org/posts/3864189143645373?__cft__[0]=AZWXqvrWgd6_W18XsAzNxAqzv72sB66cKlJd8lR2RziyLlCtzwzPMqM0WXGmqcDiuBBPEq_8AvUve5PTgviyOyHtZfz6bFY828aUKlCfZXUiddFLfhghJZyTPLZyO-t92-35UQiasmIEEJi7JsEbVe9K&amp\;__tn__=q" style="color: var(--primary-text)\; cursor: pointer\; text-decoration-line: none\; outline: none\; list-style: none\; border-width: 0px\; border-style: initial\; border-color: initial\; padding: 0px\; margin: 0px\; touch-action: manipulation\; background-color: transparent\; text-align: inherit\; font-weight: 600\; display: inline\; -webkit-tap-highlight-color: transparent\; box-sizing: border-box\; font-family: inherit\;" tabindex="0">https://www.facebook.com/MakingServicePersonal.org/posts/3864189143645373</a></div>\n\n<div>Tiered benefits for people in poverty create a Cliff Effect. As their income increases\, they lose more in benefits than they have coming in from their increase in income. Join us as we discuss the Cliff Effect and the hurdles it creates for people working their way out of poverty</div>\n\n<div>&gt\; Learn how Circles Sauk Prairie is making the shift from managing poverty to reducing it<br />\n&gt\; Hear from Circle Leaders and their Allies to see the impact Circles is already making<br />\n&gt\; Join us for learning\, fellowship\, and problem-solving</div>\n\n<div>**Presented Virtually**</div>\n\n<div>RSVP:<br />\n608-561-8468<br />\n68@makingservicepersonal.org<br />\n<a class="oajrlxb2 g5ia77u1 qu0x051f esr5mh6w e9989ue4 r7d6kgcz rq0escxv nhd2j8a9 nc684nl6 p7hjln8o kvgmc6g5 cxmmr5t8 oygrvhab hcukyx3x jb3vyjys rz4wbd8a qt6c0cv9 a8nywdso i1ao9s8h esuyzwwr f1sip0of lzcic4wl py34i1dx gpro0wi8" href="https://l.facebook.com/l.php?u=http%3A%2F%2Fwww.makingservicepersonal.org%2F%3Ffbclid%3DIwAR12g4rs7PnQMJlvjfVMb26VfA_PqXDJKhTyeYsf2z2RPg6ODh2eBf_OwN4&amp\;h=AT3s6ohGWsm4M1I6xwSUtLUXZqeodx3vw0_Gdv4usSf7Lzvdb_zerkYXpQbLbgkCtxFCY72iS3nb0dtlAhutWtPUHeV1QrxYIwn9815z0jslnGRWm2L1oc4nlsq2fDLx9BOP&amp\;__tn__=q&amp\;c[0]=AT2dGuaG-1wN2RLIMMXhFTvOpN6RI0iSAgC111qDWr0Z_EExrgJnn7sbHpLjYSJR0iLr65IDmti4FRK8kfcRgOokQflQZ1-F3iopAg-nYvpPYiB1mayFBV5bvgd_oAIEpledNBfzgf-NUzZaNC1XAfWCUcfL5UAjRZYna3v953UAcnUl" rel="nofollow noopener" style="color: var(--blue-link)\; cursor: pointer\; text-decoration-line: none\; outline: none\; list-style: none\; border-width: 0px\; border-style: initial\; border-color: initial\; padding: 0px\; margin: 0px\; touch-action: manipulation\; background-color: transparent\; text-align: inherit\; display: inline\; -webkit-tap-highlight-color: transparent\; box-sizing: border-box\; font-family: inherit\;" tabindex="0" target="_blank">www.makingservicepersonal.org</a><br />\n--<br />\nCircles Big View is working with the Sauk Prairie community to address the big\, systemic issues that cause poverty.<br />\nFor more information on Circles Sauk Prairie\, visit:&nbsp\;<a class="oajrlxb2 g5ia77u1 qu0x051f esr5mh6w e9989ue4 r7d6kgcz rq0escxv nhd2j8a9 nc684nl6 p7hjln8o kvgmc6g5 cxmmr5t8 oygrvhab hcukyx3x jb3vyjys rz4wbd8a qt6c0cv9 a8nywdso i1ao9s8h esuyzwwr f1sip0of lzcic4wl py34i1dx gpro0wi8" href="http://www.makingservicepersonal.org/circles?fbclid=IwAR0BsrQiRhVnIYCD25NjXuo8xlB9OV-tqykps2O8W6oiJ0Ao7bsz0w4FLHE" rel="nofollow noopener" style="color: var(--blue-link)\; cursor: pointer\; text-decoration-line: none\; outline: none\; list-style: none\; border-width: 0px\; border-style: initial\; border-color: initial\; padding: 0px\; margin: 0px\; touch-action: manipulation\; background-color: transparent\; text-align: inherit\; display: inline\; -webkit-tap-highlight-color: transparent\; box-sizing: border-box\; font-family: inherit\;" tabindex="0" target="_blank">http://www.makingservicepersonal.org/circles</a><br />\nTo learn more about Circles\, visit:<br />\n<a class="oajrlxb2 g5ia77u1 qu0x051f esr5mh6w e9989ue4 r7d6kgcz rq0escxv nhd2j8a9 nc684nl6 p7hjln8o kvgmc6g5 cxmmr5t8 oygrvhab hcukyx3x jb3vyjys rz4wbd8a qt6c0cv9 a8nywdso i1ao9s8h esuyzwwr f1sip0of lzcic4wl py34i1dx gpro0wi8" href="https://www.circlesusa.org/?fbclid=IwAR3IqID3Z0M6TgA4dOhpmwINH1iV-RSz6D0ucU2wBYZFEdU42U7naF5_hzc" rel="nofollow noopener" style="color: var(--blue-link)\; cursor: pointer\; text-decoration-line: none\; outline: none\; list-style: none\; border-width: 0px\; border-style: initial\; border-color: initial\; padding: 0px\; margin: 0px\; touch-action: manipulation\; background-color: transparent\; text-align: inherit\; display: inline\; -webkit-tap-highlight-color: transparent\; box-sizing: border-box\; font-family: inherit\;" tabindex="0" target="_blank">https://www.circlesusa.org/</a>&nbsp\;</div>\n
LOCATION:Virtually! https://www.facebook.com/MakingServicePersonal.org/posts/3864189143645373
UID:e.1184.26411
SEQUENCE:3
DTSTAMP:20260422T104412Z
URL:http://members.saukprairie.com/events/details/the-cliff-effect-1-step-forward-2-steps-back-circles-big-view-night-26411
END:VEVENT

END:VCALENDAR
