BEGIN:VCALENDAR
VERSION:2.0
PRODID:-//ChamberMaster//Event Calendar 2.0//EN
METHOD:PUBLISH
X-PUBLISHED-TTL:P3D
REFRESH-INTERVAL:P3D
CALSCALE:GREGORIAN
BEGIN:VEVENT
DTSTART:20190428T180000Z
DTEND:20190428T203000Z
X-MICROSOFT-CDO-ALLDAYEVENT:FALSE
SUMMARY:The Complete Works of Shakespeare (abridged)
DESCRIPTION:All 37 plays in 97 minutes! Three madcap players in tights weave their wicked way through all of Shakespeare's comedies\, histories\, and tragedies in one wild ride that will leave you breathless and helpless with laughter. An irreverent\, fast-paced romp through the Bard's plays\, THE COMPLETE WORKS OF WILLIAM SHAKESPEARE (ABRIDGED) was London's longest-running comedy.
X-ALT-DESC;FMTTYPE=text/html:<p>All 37 plays in 97 minutes! Three madcap players in tights weave their wicked way through all of Shakespeare&#39\;s comedies\, histories\, and tragedies in one wild ride that will leave you breathless and helpless with laughter. An irreverent\, fast-paced romp through the Bard&#39\;s plays\, THE COMPLETE WORKS OF WILLIAM SHAKESPEARE (ABRIDGED) was London&#39\;s longest-running comedy. &nbsp\;</p>\n
LOCATION:R.G. Brown Theatre located on the UW-Platteville | Baraboo/Sauk County Campus
UID:e.1184.22222
SEQUENCE:3
DTSTAMP:20260423T190027Z
URL:http://members.saukprairie.com/events/details/the-complete-works-of-shakespeare-abridged-04-28-2019-22222
END:VEVENT

END:VCALENDAR
