BEGIN:VCALENDAR
VERSION:2.0
PRODID:-//ChamberMaster//Event Calendar 2.0//EN
METHOD:PUBLISH
X-PUBLISHED-TTL:P3D
REFRESH-INTERVAL:P3D
CALSCALE:GREGORIAN
BEGIN:VEVENT
DTSTART:20200313T000000Z
DTEND:20200313T020000Z
X-MICROSOFT-CDO-ALLDAYEVENT:FALSE
SUMMARY:The Dirty Groove at Vintage Brewing
DESCRIPTION:Formed in 2015\, The Dirty Groove is a four-piece band made up of veterans of the southern Wisconsin music scene. With an eclectic musical mix and a funky style\, the band is hard to label and dares you to guess what song is coming next. Classic rock\, blues\, funk\, rap\, surf\, country\, and even current hits are all fair game and keep performances fun and danceable for all ages. Soaring vocals\, harmonies\, and horns put the band in a class all their own and with a huge and evolving repertoire of songs\, you won't want to miss their shows!\n\n\n\nFormed in 2015 and based in the Janesville/Edgerton area\, this band features veteran musicians from a several local bands\, including The Ritual\, The Healers\, and Club Bud. Although the band is new to the local music scene\, the various members have performed hundreds of shows all around southern Wisconsin and northern Illinois.\n\n\n\nThe Dirty Groove plays music from such artists as: Tom Petty\, Matchbox 20\, Bruno Mars\, The Beatles\, The BoDeans\, Maroon 5\, Stevie Wonder\, Ed Sheeran\, Magic\, DNCE\, Walk the Moon\, Sublime\, The Doors\, George Ezra\, Darius Rucker\, Pharell Williams\, Daft Punk\, and many more.\n\n\n\nThe Dirty Groove plays music from such artists as: Tom Petty\, Matchbox 20\, Bruno Mars\, The Beatles\, The BoDeans\, Maroon 5\, Stevie Wonder\, Ed Sheeran\, Magic\, DNCE\, Walk the Moon\, Sublime\, The Doors\, George Ezra\, Darius Rucker\, Pharell Williams\, Daft Punk\, and many more.
X-ALT-DESC;FMTTYPE=text/html:<div class="_63eu" style="box-sizing: border-box\; font-size: 14px\; max-height: 260px\; overflow: hidden\; padding: 12px\; overflow-wrap: break-word\; font-family: Helvetica\, Arial\, sans-serif\; color: rgb(29\, 33\, 41)\;">\n<div class="_63ew" data-testid="event-permalink-details" style="font-family: inherit\;"><span style="color: rgb(29\, 33\, 41)\; font-family: Helvetica\, Arial\, sans-serif\; font-size: 14px\; white-space: pre-wrap\;">Formed in 2015\, The Dirty Groove is a four-piece band made up of veterans of the southern Wisconsin music scene. With an eclectic musical mix and a funky style\, the band is hard to label and dares you to guess what song is coming next. Classic rock\, blues\, funk\, rap\, surf\, country\, and even current hits are all fair game and keep performances fun and danceable for all ages. Soaring vocals\, harmonies\, and horns put the band in a class all their own and with a huge and evolving repertoire of songs\, you won&rsquo\;t want to miss their shows!</span><br />\n<br style="color: rgb(29\, 33\, 41)\; font-family: Helvetica\, Arial\, sans-serif\; font-size: 14px\; white-space: pre-wrap\;" />\n<span style="color: rgb(29\, 33\, 41)\; font-family: Helvetica\, Arial\, sans-serif\; font-size: 14px\; white-space: pre-wrap\;">Formed in 2015 and based in the Janesville/Edgerton area\, this band features veteran musicians from a several local bands\, including The Ritual\, The Healers\, and Club Bud. Although the band is new to the local music scene\, the various members have performed hundreds of shows all around southern Wisconsin and northern Illinois.<br />\n<br />\nThe Dirty Groove plays music from such artists as: Tom Petty\, Matchbox 20\, Bruno Mars\, The Beatles\, The BoDeans\, Maroon 5\, Stevie Wonder\, Ed Sheeran\, Magic\, DNCE\, Walk the Moon\, Sublime\, The Doors\, George Ezra\, Darius Rucker\, Pharell Williams\, Daft Punk\, and many more.<br />\n<br />\nThe Dirty Groove plays music from such artists as: Tom Petty\, Matchbox 20\, Bruno Mars\, The Beatles\, The BoDeans\, Maroon 5\, Stevie Wonder\, Ed Sheeran\, Magic\, DNCE\, Walk the Moon\, Sublime\, The Doors\, George Ezra\, Darius Rucker\, Pharell Williams\, Daft Punk\, and many more.</span></div>\n</div>\n
LOCATION:Vintage Brewing Co. 600 Water St. Sauk City
UID:e.1184.24086
SEQUENCE:3
DTSTAMP:20260423T041504Z
URL:http://members.saukprairie.com/events/details/the-dirty-groove-at-vintage-brewing-24086
END:VEVENT

END:VCALENDAR
