BEGIN:VCALENDAR
VERSION:2.0
PRODID:-//ChamberMaster//Event Calendar 2.0//EN
METHOD:PUBLISH
X-PUBLISHED-TTL:P3D
REFRESH-INTERVAL:P3D
CALSCALE:GREGORIAN
BEGIN:VEVENT
DTSTART:20220701T000000Z
DTEND:20220701T020000Z
X-MICROSOFT-CDO-ALLDAYEVENT:FALSE
SUMMARY:The Dirty Groove at Vintage Brewing Co.
DESCRIPTION:Not Your Typical Cover Band! Formed in 2015\, The Dirty Groove is a four-piece band \, with an eclectic musical mix and a funky style\, the band is hard to label and dares you to guess what song is next.
X-ALT-DESC;FMTTYPE=text/html:<div class="_63eu" style="box-sizing: border-box\; font-size: 14px\; max-height: 260px\; overflow: hidden\; padding: 12px\; overflow-wrap: break-word\; font-family: Helvetica\, Arial\, sans-serif\; color: rgb(29\, 33\, 41)\;">\n<div class="_63ew" data-testid="event-permalink-details" style="white-space: pre-wrap\; font-family: inherit\;"><span style="color: rgb(5\, 5\, 5)\; font-family: &quot\;Segoe UI Historic&quot\;\, &quot\;Segoe UI&quot\;\, Helvetica\, Arial\, sans-serif\; font-size: 15px\;">Not Your Typical Cover Band! Formed in 2015\, The Dirty Groove is a four-piece band \, with an eclectic musical mix and a funky style\, the band is hard to label and dares you to guess what song is next.</span></div>\n</div>\n
LOCATION:Vintage Brewing Co. 600 Water St. Sauk City\, WI 53583
UID:e.1184.27664
SEQUENCE:3
DTSTAMP:20260421T120948Z
URL:http://members.saukprairie.com/events/details/the-dirty-groove-at-vintage-brewing-co-27664
END:VEVENT

END:VCALENDAR
