BEGIN:VCALENDAR
VERSION:2.0
PRODID:-//ChamberMaster//Event Calendar 2.0//EN
METHOD:PUBLISH
X-PUBLISHED-TTL:P3D
REFRESH-INTERVAL:P3D
CALSCALE:GREGORIAN
BEGIN:VEVENT
DTSTART:20210729T000000Z
DTEND:20210729T020000Z
X-MICROSOFT-CDO-ALLDAYEVENT:FALSE
SUMMARY:The Dirty Groove Band at Vintage Brewing Co.
DESCRIPTION:Not your typical cover band! Eclectic music with a funky style. Sure to please everyone!
X-ALT-DESC;FMTTYPE=text/html:Not your typical cover band! Eclectic music with a funky style. Sure to please everyone!
LOCATION:Vintage Brewing Company Sauk Prairie\, WI
UID:e.1184.26683
SEQUENCE:3
DTSTAMP:20260422T021522Z
URL:http://members.saukprairie.com/events/details/the-dirty-groove-band-at-vintage-brewing-co-26683
END:VEVENT

END:VCALENDAR
