BEGIN:VCALENDAR
VERSION:2.0
PRODID:-//ChamberMaster//Event Calendar 2.0//EN
METHOD:PUBLISH
X-PUBLISHED-TTL:P3D
REFRESH-INTERVAL:P3D
CALSCALE:GREGORIAN
BEGIN:VEVENT
DTSTART;VALUE=DATE:20230408
DTEND;VALUE=DATE:20230409
TRANSP:TRANSPARENT
X-MICROSOFT-CDO-ALLDAYEVENT:TRUE
SUMMARY:The Easter Bunny is coming to Roxbury!
DESCRIPTION:The Knights of Columbus will be sponsoring their annual Easter Egg Hunt on Holy Saturday\, April 8th\, at 1PM at St. Norbert's Church in Roxbury (8944 Hwy Y) (please note\, the Easter Egg hunt will happen rain\, snow or shine - if wet weather the hunt will be held on the tar driveway\, in the Church Hall or the Church School).  There will be live bunnies\, bring your camera for pictures with the Easter Bunny and of course the traditional Easter Egg hunt with treat bags courtesy of the Knights of Columbus.  There will be prizes for each age group (0 to 4\, 5 to 7\, 8 and above). All are welcome. \n\n\n\nContact Eric Breunig at 963-0338 with any questions.
X-ALT-DESC;FMTTYPE=text/html:The Knights of Columbus will be sponsoring their annual Easter Egg Hunt on Holy Saturday\, April 8th\, <strong><u>at 1PM</u></strong> at St. Norbert&#39\;s Church in Roxbury (8944 Hwy Y) (<strong><u>please note\, the Easter Egg hunt will happen rain\, snow or shine </u></strong>- if wet weather the hunt will be held on the tar driveway\, in the Church Hall or the Church School).&nbsp\; There will be live bunnies\, bring your camera for pictures with the Easter Bunny and of course the traditional Easter Egg hunt with treat bags courtesy of the Knights of Columbus.&nbsp\; There will be prizes for each age group (0 to 4\, 5 to 7\, 8 and above). All are welcome.&nbsp\;<br />\n<br />\nContact Eric Breunig at 963-0338 with any questions.&nbsp\; &nbsp\; &nbsp\; &nbsp\;&nbsp\;
LOCATION:St. Norbert's Catholic Church 8944 Cty. Hwy. Y Sauk City WI\, 53583
UID:e.1184.30713
SEQUENCE:3
DTSTAMP:20260420T160648Z
URL:http://members.saukprairie.com/events/details/the-easter-bunny-is-coming-to-roxbury-30713
END:VEVENT

END:VCALENDAR
