BEGIN:VCALENDAR
VERSION:2.0
PRODID:-//ChamberMaster//Event Calendar 2.0//EN
METHOD:PUBLISH
X-PUBLISHED-TTL:P3D
REFRESH-INTERVAL:P3D
CALSCALE:GREGORIAN
BEGIN:VEVENT
DTSTART:20190115T200000Z
DTEND:20190115T220000Z
X-MICROSOFT-CDO-ALLDAYEVENT:FALSE
SUMMARY:The Flavor of Wisconsin: Our Culinary Culture\, Past and Present
DESCRIPTION:Terese Allen\, co-author of The Taste of Wisconsin\, presents on the different foods\, flavors and foodways that make Wisconsin unique.
X-ALT-DESC;FMTTYPE=text/html:Terese Allen\, co-author of The Taste of Wisconsin\, presents on the different foods\, flavors and foodways that make Wisconsin unique.
LOCATION:515 Water Street Sauk City\, WI 53583
UID:e.1184.21598
SEQUENCE:3
DTSTAMP:20260423T231018Z
URL:http://members.saukprairie.com/events/details/the-flavor-of-wisconsin-our-culinary-culture-past-and-present-21598
END:VEVENT

END:VCALENDAR
