BEGIN:VCALENDAR
VERSION:2.0
PRODID:-//ChamberMaster//Event Calendar 2.0//EN
METHOD:PUBLISH
X-PUBLISHED-TTL:P3D
REFRESH-INTERVAL:P3D
CALSCALE:GREGORIAN
BEGIN:VEVENT
DTSTART:20230121T200000Z
DTEND:20230121T220000Z
X-MICROSOFT-CDO-ALLDAYEVENT:FALSE
SUMMARY:The Four C Notes
DESCRIPTION:THE FOUR C NOTES are the Midwest's ONLY tribute recreating the iconic sounds of Frankie Valli and The Four Seasons! THE FOUR C NOTES were created by John Michael Coppola best known for his appearance in Chicago's long-running production of the Broadway smash hit JERSEY BOYS! The 90-minute show features everyone's favorite hits: "Sherry\," "Big Girls Don't Cry\," "Walk Like A Man\," "Can't Take My Eyes Off Of You\," "Workin' My way Back To You (Babe)\," "Let's Hang On\," "Oh\, What A Night (December 1963)" and many\, many more! Dressed in matching vintage outfits\, with smart 50s/60s-guy-group-inspired moves and Mr. Coppola's legitimate\, in-depth knowledge of this music\, THE FOUR C NOTES give an authenticity to their performance that similar tribute groups simply cannot match   ANYWHERE!
X-ALT-DESC;FMTTYPE=text/html:<strong>THE FOUR C NOTES&nbsp\;</strong><span style="color:rgb(0\, 0\, 0)\; font-family:arial\,helvetica\,sans-serif">are the Midwest&rsquo\;s ONLY tribute recreating the iconic sounds of Frankie Valli and The Four Seasons!&nbsp\;</span><strong>THE FOUR C NOTES</strong><span style="color:rgb(0\, 0\, 0)\; font-family:arial\,helvetica\,sans-serif">&nbsp\;were created by John Michael Coppola best known for his appearance in Chicago&rsquo\;s long-running production of the Broadway smash hit JERSEY BOYS! The 90-minute show features everyone&rsquo\;s favorite hits: &ldquo\;Sherry\,&rdquo\; &ldquo\;Big Girls Don&rsquo\;t Cry\,&rdquo\; &ldquo\;Walk Like A Man\,&rdquo\; &ldquo\;Can&rsquo\;t Take My Eyes Off Of You\,&rdquo\; &ldquo\;Workin&rsquo\; My way Back To You (Babe)\,&rdquo\; &ldquo\;Let&rsquo\;s Hang On\,&rdquo\; &ldquo\;Oh\, What A Night (December 1963)&rdquo\; and many\, many more! Dressed in matching vintage outfits\, with smart 50s/60s-guy-group-inspired moves and Mr. Coppola&rsquo\;s legitimate\, in-depth knowledge of this music\,&nbsp\;</span><strong>THE FOUR C NOTES</strong><span style="color:rgb(0\, 0\, 0)\; font-family:arial\,helvetica\,sans-serif">&nbsp\;give an authenticity to their performance that similar tribute groups simply cannot match &hellip\; ANYWHERE!</span>
LOCATION:105 9th St\, Prairie du Sac\, WI 53578
UID:e.1184.28210
SEQUENCE:3
DTSTAMP:20260419T124457Z
URL:http://members.saukprairie.com/events/details/the-four-c-notes-28210
END:VEVENT

END:VCALENDAR
