BEGIN:VCALENDAR
VERSION:2.0
PRODID:-//ChamberMaster//Event Calendar 2.0//EN
METHOD:PUBLISH
X-PUBLISHED-TTL:P3D
REFRESH-INTERVAL:P3D
CALSCALE:GREGORIAN
BEGIN:VEVENT
DTSTART:20191026T190000Z
DTEND:20191026T210000Z
X-MICROSOFT-CDO-ALLDAYEVENT:FALSE
SUMMARY:The Four Freshmen: Live at the River Arts Center
DESCRIPTION:The Four Freshmen\n\nat the River Arts Center (high school) | 105-9th Street\, Prairie du Sac\, WI 53578\n\nSaturday\, October 26th\, 2019 | 2pm-4pm\n\nTickets: $25/adults\, $10/students\n\n\nThe Four Freshmen perform with that same unmistakable sound of the original group   a vocal harmony like no other.  They have strongly influenced many groups over the years including Take Six\, Manhattan Transfer and the Beach Boys.  As the 23rd incarnation of the one and only Four Freshmen\, their longevity proves they are doing it right!\n\nIn concert they perform seminal Freshmen classics "Day by Day" and "Blue World" as well as sharing some of their favorites with new arrangements that include the irresistible force of "Something's Gotta Give"\, the melodious "Skylark"\, "Early Autumn"\, "September Song"\, and "My One and Only Love".  Each member is an accomplished vocalist and musician bringing new influences and perspective to a time-honored musical heritage.
X-ALT-DESC;FMTTYPE=text/html:<p><strong>The Four Freshmen</strong></p>\n\n<p><strong>at the River Arts Center (high school) | 105-9th Street\, Prairie du Sac\, WI 53578</strong></p>\n\n<p>Saturday\, October 26th\, 2019 | 2pm-4pm</p>\n\n<p>Tickets: $25/adults\, $10/students</p>\n\n<hr />\n<p>The Four Freshmen perform with that same unmistakable sound of the original group &ndash\; a vocal harmony like no other.&nbsp\; They have strongly influenced many groups over the years including Take Six\, Manhattan Transfer and the Beach Boys.&nbsp\; As the 23rd incarnation of the one and only Four Freshmen\, their longevity proves they are doing it right!</p>\n\n<p>In concert they perform seminal Freshmen classics &ldquo\;Day by Day&rdquo\; and &ldquo\;Blue World&rdquo\; as well as sharing some of their favorites with new arrangements that include the irresistible force of &ldquo\;Something&rsquo\;s Gotta Give&rdquo\;\, the melodious &ldquo\;Skylark&rdquo\;\, &ldquo\;Early Autumn&rdquo\;\, &ldquo\;September Song&rdquo\;\, and &ldquo\;My One and Only Love&rdquo\;.&nbsp\; Each member is an accomplished vocalist and musician bringing new influences and perspective to a time-honored musical heritage.</p>\n
LOCATION:River Arts Center 105 9th St Prairie du Sac\, WI 53578
UID:e.1184.22521
SEQUENCE:3
DTSTAMP:20260423T113848Z
URL:http://members.saukprairie.com/events/details/the-four-freshmen-live-at-the-river-arts-center-22521
END:VEVENT

END:VCALENDAR
