BEGIN:VCALENDAR
VERSION:2.0
PRODID:-//ChamberMaster//Event Calendar 2.0//EN
METHOD:PUBLISH
X-PUBLISHED-TTL:P3D
REFRESH-INTERVAL:P3D
CALSCALE:GREGORIAN
BEGIN:VEVENT
DTSTART:20240601T130000Z
DTEND:20240601T170000Z
X-MICROSOFT-CDO-ALLDAYEVENT:FALSE
SUMMARY:The Good Neighbor Ride
DESCRIPTION:Details:\nJune 1\, 2024\n\nRide starts at 8:00 AM\n\n(Bike and finish at your own pace)\n\nBike with us on the Great Sauk State Trail on Saturday\, June 1 to honor the legacy of Dr. Haakon Carlson\, a Prairie Clinic physician and founder of the Good Neighbor Clinic\, a free community clinic whose mission is to improve the health and lives of people who face financial\, cultural\, or language barriers that keep them from accessing quality healthcare.\n\nThe Good Neighbor Ride will begin in the Good Neighbor Clinic parking lot at 8:00 a.m. with brief opening remarks\; the ride will begin shortly after. You can choose to bike either a long or short route\, depending on your comfort level.\n\nThe Good Neighbor Ride is sponsored by the Sauk Prairie Healthcare Foundation and donations raised will benefit the Good Neighbor Clinic. While we do not require a registration fee\, a $25 suggested donation is appreciated. Those who donate $125 or more will receive a custom Good Neighbor Ride bike jersey while supplies last.\n\n\nRegistration\n\n	Price:$25 suggested donation\; $125+ will receive a Good Neighbor Ride jersey (while supplies last)\n	Registration Instructions:\n	To Register Click Here
X-ALT-DESC;FMTTYPE=text/html:<div>Details:\n<p>June 1\, 2024<br />\nRide starts at 8:00 AM<br />\n(Bike and finish at your own pace)</p>\n\n<p>Bike with us on the Great Sauk State Trail on Saturday\, June 1&nbsp\;to honor the legacy of Dr. Haakon Carlson\, a Prairie Clinic physician and founder of the Good Neighbor Clinic\, a free community clinic whose mission is to improve the health and lives of people who face financial\, cultural\, or language barriers that keep them from accessing quality healthcare.</p>\n\n<p>The Good Neighbor Ride will begin in the Good Neighbor Clinic parking lot at 8:00 a.m. with brief opening remarks\; the ride will begin shortly after. You can choose to bike either a long or short route\, depending on your comfort level.</p>\n\n<p>The Good Neighbor Ride is sponsored by the Sauk Prairie Healthcare Foundation and donations raised will benefit the Good Neighbor Clinic. While we do not require a registration fee\, a $25 suggested donation is appreciated. Those who donate $125&nbsp\;or more&nbsp\;will receive a custom Good Neighbor Ride bike jersey&nbsp\;while supplies last.</p>\n</div>\n\n<div>Registration\n<ul>\n	<li>Price:$25 suggested donation\; $125+ will receive a Good Neighbor Ride jersey (while supplies last)</li>\n	<li>Registration Instructions:\n	<p>To Register Click <u><strong><a href="https://interland3.donorperfect.net/weblink/weblink.aspx?name=E360918&amp\;id=1">Here</a></strong></u></p>\n	</li>\n</ul>\n</div>\n
LOCATION:Good Neighbor Clinic
UID:e.1184.32076
SEQUENCE:3
DTSTAMP:20260419T191856Z
URL:http://members.saukprairie.com/events/details/the-good-neighbor-ride-32076
END:VEVENT

END:VCALENDAR
