BEGIN:VCALENDAR
VERSION:2.0
PRODID:-//ChamberMaster//Event Calendar 2.0//EN
METHOD:PUBLISH
X-PUBLISHED-TTL:P3D
REFRESH-INTERVAL:P3D
CALSCALE:GREGORIAN
BEGIN:VEVENT
DTSTART:20161023T180000Z
DTEND:20161023T200000Z
X-MICROSOFT-CDO-ALLDAYEVENT:FALSE
SUMMARY:The Health of Wisconsin's Bald Eagles & the Bald Eagle Bio-Sentinel Program
DESCRIPTION:Join the Ferry Bluff Eagle Council on Sunday\, October 23\, 2016 at 1pm at the Tripp Heritage Museum\, 565 Water St\, Prairie du Sac\, WI for our Fall Membership Meeting & Board of Directors Election.\n\n\n\nAfter a very brief business meeting\, stay for some light refreshments and listen to Sean Strom\, Wildlife Toxicologist with the Wisconsin Department of Natural Resources speak on "The Health of Wisconsin's Bald Eagles and the Bald Eagle Bio-Sentinel Program."\n\nPublic is invited.
X-ALT-DESC;FMTTYPE=text/html:<p>Join the Ferry Bluff Eagle Council on Sunday\, October 23\, 2016 at 1pm at the Tripp Heritage Museum\, 565 Water St\, Prairie du Sac\, WI for our Fall Membership Meeting &amp\; Board of Directors Election.<br />\n<br />\nAfter a very brief business meeting\, stay for some&nbsp\;light refreshments and listen to Sean Strom\, Wildlife Toxicologist with the Wisconsin Department of Natural Resources speak on &quot\;The Health of Wisconsin&#39\;s Bald Eagles and the Bald Eagle Bio-Sentinel Program.&quot\;</p>\n\n<p>Public is invited.</p>\n
LOCATION:Sauk Prairie Historical Society Tripp Heritage Museum 565 Water St Prairie du Sac\, WI 53578
UID:e.1184.9387
SEQUENCE:3
DTSTAMP:20260425T174011Z
URL:http://members.saukprairie.com/events/details/the-health-of-wisconsin-s-bald-eagles-the-bald-eagle-bio-sentinel-program-9387
END:VEVENT

END:VCALENDAR
