BEGIN:VCALENDAR
VERSION:2.0
PRODID:-//ChamberMaster//Event Calendar 2.0//EN
METHOD:PUBLISH
X-PUBLISHED-TTL:P3D
REFRESH-INTERVAL:P3D
CALSCALE:GREGORIAN
BEGIN:VEVENT
DTSTART:20190201T010000Z
DTEND:20190201T030000Z
X-MICROSOFT-CDO-ALLDAYEVENT:FALSE
SUMMARY:The Hoot Owls at Vintage
DESCRIPTION:The Hoot Owls consist of Gary Frisch (Harmonica & Vocals) and Jeff Gerencser (guitar & vocals). We are from Baraboo\, WI and play country blues\, rock & more
X-ALT-DESC;FMTTYPE=text/html:<span style="color: rgb(75\, 79\, 86)\; font-family: helvetica\, arial\, sans-serif\; font-size: 14px\;">The Hoot Owls consist of Gary Frisch (Harmonica &amp\; Vocals) and Jeff Gerencser (guitar &amp\; vocals). We are from Baraboo\, WI and play country blues\, rock &amp\; more</span>
LOCATION:Vintage Brewing Co. Sauk Prairie 600 Water Street Sauk City\, WI 53583
UID:e.1184.21660
SEQUENCE:3
DTSTAMP:20260423T230338Z
URL:http://members.saukprairie.com/events/details/the-hoot-owls-at-vintage-21660
END:VEVENT

END:VCALENDAR
