BEGIN:VCALENDAR
VERSION:2.0
PRODID:-//ChamberMaster//Event Calendar 2.0//EN
METHOD:PUBLISH
X-PUBLISHED-TTL:P3D
REFRESH-INTERVAL:P3D
CALSCALE:GREGORIAN
BEGIN:VEVENT
DTSTART:20240229T153000Z
DTEND:20240229T163000Z
X-MICROSOFT-CDO-ALLDAYEVENT:FALSE
SUMMARY:The Idea Exchange for Nonprofit Leaders
DESCRIPTION:Join us for an hour of brainstorming\, connecting\, and co-creating as we bring together nonprofit leaders to work through what is top of mind for YOU. You'll get to network with other nonprofit leaders and gain valuable knowledge that you can apply to your organization. Don't miss this opportunity to brainstorm\, connect\, and co-create with like-minded individuals.\n\n\n\nThe Idea Exchange for Nonprofit Leaders to\n\n* Connect with other each other\n\n* Brainstorm Ideas\n\n* Have open dialogue to work through current challenges\n\n\n\n*Make sure to register through the eventbrite link here:\n\nhttps://www.eventbrite.com/e/the-idea-exchange-for-nonprofit-leaders-tickets-827701636877\n\n\n\n*Only 20 tickets available*
X-ALT-DESC;FMTTYPE=text/html:<div>Join us for an hour of brainstorming\, connecting\, and co-creating as we bring together nonprofit leaders to work through what is top of mind for YOU. You&#39\;ll get to network with other nonprofit leaders and gain valuable knowledge that you can apply to your organization. Don&#39\;t miss this opportunity to brainstorm\, connect\, and co-create with like-minded individuals.</div>\n\n<div><br />\nThe Idea Exchange for Nonprofit Leaders to<br />\n* Connect with other each other<br />\n* Brainstorm Ideas<br />\n* Have open dialogue to work through current challenges<br />\n<br />\n<u>*Make sure to register through the eventbrite link here:</u><br />\n<a href="https://www.eventbrite.com/e/the-idea-exchange-for-nonprofit-leaders-tickets-827701636877">https://www.eventbrite.com/e/the-idea-exchange-for-nonprofit-leaders-tickets-827701636877</a></div>\n\n<div><br />\n*Only 20 tickets available*</div>\n
LOCATION:https://www.eventbrite.com/e/the-idea-exchange-for-nonprofit-leaders-tickets-827701636877
UID:e.1184.31577
SEQUENCE:3
DTSTAMP:20260420T003434Z
URL:http://members.saukprairie.com/events/details/the-idea-exchange-for-nonprofit-leaders-31577
END:VEVENT

END:VCALENDAR
