BEGIN:VCALENDAR
VERSION:2.0
PRODID:-//ChamberMaster//Event Calendar 2.0//EN
METHOD:PUBLISH
X-PUBLISHED-TTL:P3D
REFRESH-INTERVAL:P3D
CALSCALE:GREGORIAN
BEGIN:VEVENT
DTSTART:20200513T183000Z
DTEND:20200513T193000Z
X-MICROSOFT-CDO-ALLDAYEVENT:FALSE
SUMMARY:The Investment Puzzle: Putting the Pieces Together
DESCRIPTION:Like a jigsaw puzzle\, economic conditions\, corporate performance\, the international backdrop and your investment decisions fit together to form a larger picture. But it can be hard to see a pattern among the various pieces of our investment outlook.\n\n\n\nWe'll look at these key questions facing investors today:\n\n \n\n	\n		\n			\n			\n				 \n			\n			\n			Will there be a recession this year?\n		\n	\n\n\n\n	\n		\n			\n			\n				 \n			\n			\n			Will interest rates go lower or even negative?\n		\n	\n\n\n\n	\n		\n			\n			\n				 \n			\n			\n			How long will the market slump last?\n		\n	\n\n\n\n	\n		\n			\n			\n				 \n			\n			\n			Will global markets keep underperforming?\n		\n	\n\n\n\n	\n		\n			\n			\n				 \n			\n			\n			What are the risks to our outlook?\n		\n	\n\n\n\n	\n		\n			\n			\n				 \n			\n			\n			What common mistakes can I avoid?\n		\n	\n\n\n\n	\n		\n			\n			\n				 \n			\n			\n			How can I put all the pieces together?
X-ALT-DESC;FMTTYPE=text/html:<span style="margin: 0px\; padding: 0px\; border: 0px\; font-variant-numeric: inherit\; font-variant-east-asian: inherit\; font-stretch: inherit\; font-size: 10.5pt\; line-height: inherit\; font-family: arial\, serif\, EmojiFont\; vertical-align: baseline\; color: rgb(32\, 31\, 30)\;"><span style="margin: 0px\; padding: 0px\; border: 0px\; font-style: inherit\; font-variant: inherit\; font-weight: inherit\; font-stretch: inherit\; font-size: 10.5pt\; line-height: inherit\; vertical-align: baseline\; color: inherit\;">Like a jigsaw puzzle\, economic conditions\, corporate performance\, the international backdrop and your investment decisions fit together to form a larger picture. But it can be hard to see a pattern among the various pieces of our investment outlook.</span><br />\n<br />\n<span style="margin: 0px\; padding: 0px\; border: 0px\; font-style: inherit\; font-variant: inherit\; font-weight: inherit\; font-stretch: inherit\; font-size: 10.5pt\; line-height: inherit\; vertical-align: baseline\; color: inherit\;">We&#39\;ll look at these key questions facing investors today:</span></span><br />\n&nbsp\;\n<table style="font: inherit\;">\n	<tbody>\n		<tr>\n			<td valign="top">\n			<ul>\n				<li><span style="margin: 0px\; padding: 0px\; border: 0px\; font-variant-numeric: inherit\; font-variant-east-asian: inherit\; font-stretch: inherit\; font-size: 10.5pt\; line-height: inherit\; font-family: arial\, serif\, EmojiFont\; vertical-align: baseline\; color: rgb(32\, 31\, 30)\;">&nbsp\;</span></li>\n			</ul>\n			</td>\n			<td valign="top" width="100%"><span style="margin: 0px\; padding: 0px\; border: 0px\; font-variant-numeric: inherit\; font-variant-east-asian: inherit\; font-stretch: inherit\; font-size: 10.5pt\; line-height: inherit\; font-family: arial\, serif\, EmojiFont\; vertical-align: baseline\; color: rgb(32\, 31\, 30)\;"><span style="margin: 0px\; padding: 0px\; border: 0px\; font-style: inherit\; font-variant: inherit\; font-weight: inherit\; font-stretch: inherit\; font-size: 10.5pt\; line-height: inherit\; vertical-align: baseline\; color: inherit\;">Will there be a recession this year?</span></span></td>\n		</tr>\n	</tbody>\n</table>\n\n<table style="font: inherit\;">\n	<tbody>\n		<tr>\n			<td valign="top">\n			<ul>\n				<li><span style="margin: 0px\; padding: 0px\; border: 0px\; font-variant-numeric: inherit\; font-variant-east-asian: inherit\; font-stretch: inherit\; font-size: 10.5pt\; line-height: inherit\; font-family: arial\, serif\, EmojiFont\; vertical-align: baseline\; color: rgb(32\, 31\, 30)\;">&nbsp\;</span></li>\n			</ul>\n			</td>\n			<td valign="top" width="100%"><span style="margin: 0px\; padding: 0px\; border: 0px\; font-variant-numeric: inherit\; font-variant-east-asian: inherit\; font-stretch: inherit\; font-size: 10.5pt\; line-height: inherit\; font-family: arial\, serif\, EmojiFont\; vertical-align: baseline\; color: rgb(32\, 31\, 30)\;"><span style="margin: 0px\; padding: 0px\; border: 0px\; font-style: inherit\; font-variant: inherit\; font-weight: inherit\; font-stretch: inherit\; font-size: 10.5pt\; line-height: inherit\; vertical-align: baseline\; color: inherit\;">Will interest rates go lower or even negative?</span></span></td>\n		</tr>\n	</tbody>\n</table>\n\n<table style="font: inherit\;">\n	<tbody>\n		<tr>\n			<td valign="top">\n			<ul>\n				<li><span style="margin: 0px\; padding: 0px\; border: 0px\; font-variant-numeric: inherit\; font-variant-east-asian: inherit\; font-stretch: inherit\; font-size: 10.5pt\; line-height: inherit\; font-family: arial\, serif\, EmojiFont\; vertical-align: baseline\; color: rgb(32\, 31\, 30)\;">&nbsp\;</span></li>\n			</ul>\n			</td>\n			<td valign="top" width="100%"><span style="margin: 0px\; padding: 0px\; border: 0px\; font-variant-numeric: inherit\; font-variant-east-asian: inherit\; font-stretch: inherit\; font-size: 10.5pt\; line-height: inherit\; font-family: arial\, serif\, EmojiFont\; vertical-align: baseline\; color: rgb(32\, 31\, 30)\;"><span style="margin: 0px\; padding: 0px\; border: 0px\; font-style: inherit\; font-variant: inherit\; font-weight: inherit\; font-stretch: inherit\; font-size: 10.5pt\; line-height: inherit\; vertical-align: baseline\; color: inherit\;">How long will the market slump last?</span></span></td>\n		</tr>\n	</tbody>\n</table>\n\n<table style="font: inherit\;">\n	<tbody>\n		<tr>\n			<td valign="top">\n			<ul>\n				<li><span style="margin: 0px\; padding: 0px\; border: 0px\; font-variant-numeric: inherit\; font-variant-east-asian: inherit\; font-stretch: inherit\; font-size: 10.5pt\; line-height: inherit\; font-family: arial\, serif\, EmojiFont\; vertical-align: baseline\; color: rgb(32\, 31\, 30)\;">&nbsp\;</span></li>\n			</ul>\n			</td>\n			<td valign="top" width="100%"><span style="margin: 0px\; padding: 0px\; border: 0px\; font-variant-numeric: inherit\; font-variant-east-asian: inherit\; font-stretch: inherit\; font-size: 10.5pt\; line-height: inherit\; font-family: arial\, serif\, EmojiFont\; vertical-align: baseline\; color: rgb(32\, 31\, 30)\;"><span style="margin: 0px\; padding: 0px\; border: 0px\; font-style: inherit\; font-variant: inherit\; font-weight: inherit\; font-stretch: inherit\; font-size: 10.5pt\; line-height: inherit\; vertical-align: baseline\; color: inherit\;">Will global markets keep underperforming?</span></span></td>\n		</tr>\n	</tbody>\n</table>\n\n<table style="font: inherit\;">\n	<tbody>\n		<tr>\n			<td valign="top">\n			<ul>\n				<li><span style="margin: 0px\; padding: 0px\; border: 0px\; font-variant-numeric: inherit\; font-variant-east-asian: inherit\; font-stretch: inherit\; font-size: 10.5pt\; line-height: inherit\; font-family: arial\, serif\, EmojiFont\; vertical-align: baseline\; color: rgb(32\, 31\, 30)\;">&nbsp\;</span></li>\n			</ul>\n			</td>\n			<td valign="top" width="100%"><span style="margin: 0px\; padding: 0px\; border: 0px\; font-variant-numeric: inherit\; font-variant-east-asian: inherit\; font-stretch: inherit\; font-size: 10.5pt\; line-height: inherit\; font-family: arial\, serif\, EmojiFont\; vertical-align: baseline\; color: rgb(32\, 31\, 30)\;"><span style="margin: 0px\; padding: 0px\; border: 0px\; font-style: inherit\; font-variant: inherit\; font-weight: inherit\; font-stretch: inherit\; font-size: 10.5pt\; line-height: inherit\; vertical-align: baseline\; color: inherit\;">What are the risks to our outlook?</span></span></td>\n		</tr>\n	</tbody>\n</table>\n\n<table style="font: inherit\;">\n	<tbody>\n		<tr>\n			<td valign="top">\n			<ul>\n				<li><span style="margin: 0px\; padding: 0px\; border: 0px\; font-variant-numeric: inherit\; font-variant-east-asian: inherit\; font-stretch: inherit\; font-size: 10.5pt\; line-height: inherit\; font-family: arial\, serif\, EmojiFont\; vertical-align: baseline\; color: rgb(32\, 31\, 30)\;">&nbsp\;</span></li>\n			</ul>\n			</td>\n			<td valign="top" width="100%"><span style="margin: 0px\; padding: 0px\; border: 0px\; font-variant-numeric: inherit\; font-variant-east-asian: inherit\; font-stretch: inherit\; font-size: 10.5pt\; line-height: inherit\; font-family: arial\, serif\, EmojiFont\; vertical-align: baseline\; color: rgb(32\, 31\, 30)\;"><span style="margin: 0px\; padding: 0px\; border: 0px\; font-style: inherit\; font-variant: inherit\; font-weight: inherit\; font-stretch: inherit\; font-size: 10.5pt\; line-height: inherit\; vertical-align: baseline\; color: inherit\;">What common mistakes can I avoid?</span></span></td>\n		</tr>\n	</tbody>\n</table>\n\n<table style="font: inherit\;">\n	<tbody>\n		<tr>\n			<td valign="top">\n			<ul>\n				<li><span style="margin: 0px\; padding: 0px\; border: 0px\; font-variant-numeric: inherit\; font-variant-east-asian: inherit\; font-stretch: inherit\; font-size: 10.5pt\; line-height: inherit\; font-family: arial\, serif\, EmojiFont\; vertical-align: baseline\; color: rgb(32\, 31\, 30)\;">&nbsp\;</span></li>\n			</ul>\n			</td>\n			<td valign="top" width="100%"><span style="margin: 0px\; padding: 0px\; border: 0px\; font-variant-numeric: inherit\; font-variant-east-asian: inherit\; font-stretch: inherit\; font-size: 10.5pt\; line-height: inherit\; font-family: arial\, serif\, EmojiFont\; vertical-align: baseline\; color: rgb(32\, 31\, 30)\;"><span style="margin: 0px\; padding: 0px\; border: 0px\; font-style: inherit\; font-variant: inherit\; font-weight: inherit\; font-stretch: inherit\; font-size: 10.5pt\; line-height: inherit\; vertical-align: baseline\; color: inherit\;">How can I put all the pieces together?</span></span></td>\n		</tr>\n	</tbody>\n</table>\n
LOCATION:Important Webinar Details Date and time: Wednesday\, May 13th at 1:30 pm Meeting number: 805 192 511 Meeting password: 801WATERST To attend\, go to: https://ej.webex.com/ej/j.php?MTID=meff37e9ed355393c768f4a7f9500f6fb. Important Audio Information Dial-in Number: 1-866-528-2256 You must dial in in order to be able to hear the webinar. Passcode: 6437663 Even if you don't have a computer\, or you lose your internet connection\, you can still join us by phone!
UID:e.1184.24371
SEQUENCE:3
DTSTAMP:20260423T002433Z
URL:http://members.saukprairie.com/events/details/the-investment-puzzle-putting-the-pieces-together-24371
END:VEVENT

END:VCALENDAR
