BEGIN:VCALENDAR
VERSION:2.0
PRODID:-//ChamberMaster//Event Calendar 2.0//EN
METHOD:PUBLISH
X-PUBLISHED-TTL:P3D
REFRESH-INTERVAL:P3D
CALSCALE:GREGORIAN
BEGIN:VEVENT
DTSTART:20170101T033000Z
DTEND:20170101T063000Z
X-MICROSOFT-CDO-ALLDAYEVENT:FALSE
SUMMARY:The Jacks at the Woodshed Ale House
DESCRIPTION:The Jacks are a folk-rock\, alt-country band out of Sauk Prairie! Dylan\, Mumford\, Avett Bros.\, Springsteen\, Prine\, The Head and the Heart and more!
X-ALT-DESC;FMTTYPE=text/html:<span style="color: rgb(75\, 79\, 86)\; font-family: helvetica\, arial\, sans-serif\; font-size: 14px\;">The Jacks are a folk-rock\, alt-country band out of Sauk Prairie! Dylan\, Mumford\, Avett Bros.\, Springsteen\, Prine\, The Head and the Heart and more!</span>
LOCATION:Woodshed Ale House 101 Jackson Street Sauk City\, WI 53583
UID:e.1184.9421
SEQUENCE:3
DTSTAMP:20260425T125607Z
URL:http://members.saukprairie.com/events/details/the-jacks-at-the-woodshed-ale-house-9421
END:VEVENT

END:VCALENDAR
