BEGIN:VCALENDAR
VERSION:2.0
PRODID:-//ChamberMaster//Event Calendar 2.0//EN
METHOD:PUBLISH
X-PUBLISHED-TTL:P3D
REFRESH-INTERVAL:P3D
CALSCALE:GREGORIAN
BEGIN:VEVENT
DTSTART:20170113T010000Z
DTEND:20170113T030000Z
X-MICROSOFT-CDO-ALLDAYEVENT:FALSE
SUMMARY:The Lower 5th at the Woodshed Ale House
DESCRIPTION:Americana\, Midwestern Soul
X-ALT-DESC;FMTTYPE=text/html:Americana\, Midwestern Soul
LOCATION:Woodshed Ale House 101 Jackson Street Sauk City\, WI 53583
UID:e.1184.9422
SEQUENCE:3
DTSTAMP:20260425T142234Z
URL:http://members.saukprairie.com/events/details/the-lower-5th-at-the-woodshed-ale-house-9422
END:VEVENT

END:VCALENDAR
