BEGIN:VCALENDAR
VERSION:2.0
PRODID:-//ChamberMaster//Event Calendar 2.0//EN
METHOD:PUBLISH
X-PUBLISHED-TTL:P3D
REFRESH-INTERVAL:P3D
CALSCALE:GREGORIAN
BEGIN:VEVENT
DTSTART:20200327T000000Z
DTEND:20200327T020000Z
X-MICROSOFT-CDO-ALLDAYEVENT:FALSE
SUMMARY:The Lower 5th at Vintage Brewing Co.
DESCRIPTION:Rocking audiences with a celebration of life's joys and trials\, the Lower 5th shares their unique blend of Americana\, which they simply call "Midwestern Soul". Their music drifts from charged renditions of timeless classics to soulful originals that keep happy crowds singing and dancing into the night.
X-ALT-DESC;FMTTYPE=text/html:<span style="color: rgb(29\, 33\, 41)\; font-family: Helvetica\, Arial\, sans-serif\; font-size: 14px\; white-space: pre-wrap\;">Rocking audiences with a celebration of life&#39\;s joys and trials\, the Lower 5th shares their unique blend of Americana\, which they simply call &quot\;Midwestern Soul&quot\;. Their music drifts from charged renditions of timeless classics to soulful originals that keep happy crowds singing and dancing into the night.</span>
LOCATION:Vintage Brewing Co. 600 Water St. Sauk City
UID:e.1184.24089
SEQUENCE:3
DTSTAMP:20260423T041310Z
URL:http://members.saukprairie.com/events/details/the-lower-5th-at-vintage-brewing-co-24089
END:VEVENT

END:VCALENDAR
