BEGIN:VCALENDAR
VERSION:2.0
PRODID:-//ChamberMaster//Event Calendar 2.0//EN
METHOD:PUBLISH
X-PUBLISHED-TTL:P3D
REFRESH-INTERVAL:P3D
CALSCALE:GREGORIAN
BEGIN:VEVENT
DTSTART:20181207T010000Z
DTEND:20181207T030000Z
X-MICROSOFT-CDO-ALLDAYEVENT:FALSE
SUMMARY:The Lower 5th Band
DESCRIPTION:Join Vintage Brewing Co. for The Lower 5th Band. They play Americana and Midwestern Soul!
X-ALT-DESC;FMTTYPE=text/html:<div class="_63eu" style="font-family: Georgia\, &quot\;Times New Roman&quot\;\, &quot\;Bitstream Charter&quot\;\, Times\, serif\; font-size: 16px\;">\n<div class="_63ew" data-testid="event-permalink-details">Join Vintage Brewing Co. for The Lower 5th Band. They play Americana and Midwestern Soul!</div>\n\n<div>&nbsp\;</div>\n</div>\n
LOCATION:Vintage Brewing Company 600 Water Street Sauk City
UID:e.1184.21500
SEQUENCE:3
DTSTAMP:20260424T003115Z
URL:http://members.saukprairie.com/events/details/the-lower-5th-band-21500
END:VEVENT

END:VCALENDAR
