BEGIN:VCALENDAR
VERSION:2.0
PRODID:-//ChamberMaster//Event Calendar 2.0//EN
METHOD:PUBLISH
X-PUBLISHED-TTL:P3D
REFRESH-INTERVAL:P3D
CALSCALE:GREGORIAN
BEGIN:VEVENT
DTSTART:20170121T010000Z
DTEND:20170121T030000Z
X-MICROSOFT-CDO-ALLDAYEVENT:FALSE
SUMMARY:The MadHatters
DESCRIPTION:The University of Wisconsin MadHatters\, based out of Madison\, Wisconsin\, are the premier men's a cappella group of the UW campus. Founded in 1997\, the MadHatters were the first of its kind at UW and have seen their humble beginnings boom into sold out shows across campus filled with adoring fans. Comprised of 14 singers and a vocal percussionist\, the MadHatters croon the songs of decades past to the Top 40 present.\n\n\n\nwww.riverartsinc.org
X-ALT-DESC;FMTTYPE=text/html:<span style="font-family:arial"><span style="font-size:13.0pt">The University of Wisconsin&nbsp\;MadHatters\, based out of Madison\, Wisconsin\, are the premier men&rsquo\;s a cappella group of the UW campus. Founded in 1997\, the&nbsp\;MadHatters&nbsp\;were the first of its kind at UW and have seen their humble beginnings boom into sold out shows across campus filled with adoring fans. Comprised of 14 singers and a vocal percussionist\, the&nbsp\;MadHatters&nbsp\;croon the songs of decades past to the Top 40 present.</span></span><br />\n<br />\nwww.riverartsinc.org
LOCATION:River Arts Center\, 105 9th St. Prairie du Sac
UID:e.1184.8534
SEQUENCE:3
DTSTAMP:20260425T124323Z
URL:http://members.saukprairie.com/events/details/the-madhatters-01-20-2017-8534
END:VEVENT

END:VCALENDAR
